BEGIN:VCALENDAR
VERSION:2.0
PRODID:-//ChamberMaster//Event Calendar 2.0//EN
METHOD:PUBLISH
X-PUBLISHED-TTL:P3D
REFRESH-INTERVAL:P3D
CALSCALE:GREGORIAN
BEGIN:VEVENT
DTSTART:20200914T180000Z
DTEND:20201001T190000Z
X-MICROSOFT-CDO-ALLDAYEVENT:FALSE
SUMMARY:Rent Smart
DESCRIPTION:What you will learn: -Planning for and meeting monthly expenses -Tips for finding and maintaining affordable housing -How to complete an application and why landlords screen applicants -Strategies for building positive relationships with landlords and neighbors -Responsibilities and rights of landlords and tenants -Participants must complete all 6 modules to earn the Rent Smart certificate
X-ALT-DESC;FMTTYPE=text/html:What you will learn: -Planning for and meeting monthly expenses -Tips for finding and maintaining affordable housing -How to complete an application and why landlords screen applicants -Strategies for building positive relationships with landlords and neighbors -Responsibilities and rights of landlords and tenants -Participants must complete all 6 modules to earn the Rent Smart certificate
LOCATION:Virtual (Online via Zoom)
UID:e.1184.26097
SEQUENCE:3
DTSTAMP:20260422T165228Z
URL:http://members.saukprairie.com/events/details/rent-smart-26097
END:VEVENT

END:VCALENDAR
