BEGIN:VCALENDAR
VERSION:2.0
PRODID:-//ChamberMaster//Event Calendar 2.0//EN
METHOD:PUBLISH
X-PUBLISHED-TTL:P3D
REFRESH-INTERVAL:P3D
CALSCALE:GREGORIAN
BEGIN:VEVENT
DTSTART:20180516T193000Z
DTEND:20180516T203000Z
X-MICROSOFT-CDO-ALLDAYEVENT:FALSE
SUMMARY:Reptile Inspired Engineering
DESCRIPTION:Madison Area Herpetological Society presents Reptile Inspired Engineering at the Ruth Culver Community Library Wednesday\, May 16 at 2:30 p.m.  Examine how traits and characteristics reptiles have developed are inspiring development of new technologies and research that benefits the society we live in.  This event is appropriate for children in grades K-5. Contact Beth at 643-8318 with questions.
X-ALT-DESC;FMTTYPE=text/html:Madison Area Herpetological Society presents Reptile Inspired Engineering at the Ruth Culver Community Library Wednesday\, May 16 at 2:30 p.m.&nbsp\; Examine how traits and characteristics reptiles have developed are inspiring development of new technologies and research that benefits the society we live in.&nbsp\; This event is appropriate for children in grades K-5. Contact Beth at 643-8318 with questions.
LOCATION:Ruth Culver Community Library 540 Water Street\, Prairie du Sac
UID:e.1184.14590
SEQUENCE:3
DTSTAMP:20260424T111909Z
URL:http://members.saukprairie.com/events/details/reptile-inspired-engineering-14590
END:VEVENT

END:VCALENDAR
