BEGIN:VCALENDAR
VERSION:2.0
PRODID:-//ChamberMaster//Event Calendar 2.0//EN
METHOD:PUBLISH
X-PUBLISHED-TTL:P3D
REFRESH-INTERVAL:P3D
CALSCALE:GREGORIAN
BEGIN:VEVENT
DTSTART:20190617T180000Z
DTEND:20190617T190000Z
X-MICROSOFT-CDO-ALLDAYEVENT:FALSE
SUMMARY:Reptomania
DESCRIPTION:Steve Schindler\, an expert on all things reptilian\, will be at the Ruth Culver Community Library Monday\, June 17 at 1:00 p.m. to introduce huge toads and frogs\, colorful snakes\, exotic skinks and a humongous monitor lizard. Attendees will learn about how different adaptations allow animals to live in specific habitats and what interesting physical modifications they use to protect themselves from predators.  Children of all ages are welcome. Contact Beth at 643-8318 with questions.
X-ALT-DESC;FMTTYPE=text/html:Steve Schindler\, an expert on all things reptilian\, will be at the Ruth Culver Community Library Monday\, June 17 at 1:00 p.m. to introduce huge toads and frogs\, colorful snakes\, exotic skinks and a humongous monitor lizard. Attendees will learn about how different adaptations allow animals to live in specific habitats and what interesting physical modifications they use to protect themselves from predators.&nbsp\; Children of all ages are welcome. Contact Beth at 643-8318 with questions.
LOCATION:Ruth Culver Community Library 540 Water Street\, Prairie du Sac
UID:e.1184.22317
SEQUENCE:3
DTSTAMP:20260423T153308Z
URL:http://members.saukprairie.com/events/details/reptomania-22317
END:VEVENT

END:VCALENDAR
