BEGIN:VCALENDAR
VERSION:2.0
PRODID:-//ChamberMaster//Event Calendar 2.0//EN
METHOD:PUBLISH
X-PUBLISHED-TTL:P3D
REFRESH-INTERVAL:P3D
CALSCALE:GREGORIAN
BEGIN:VEVENT
DTSTART;VALUE=DATE:20220902
DTEND;VALUE=DATE:20220904
TRANSP:TRANSPARENT
X-MICROSOFT-CDO-ALLDAYEVENT:TRUE
SUMMARY:ReTwist-T Fall Open House & Mini Market
DESCRIPTION:Help us celebrate our 3rd Anniversary and Fall Open House\, as well as the Cow Chip Festival! Browse our unique selection of handmade & vin-tique Fall Decor\, and don't forget to shop our outdoor Mini Market featuring many of our talented Vendors! Open Friday\, September 2 from 10-5 and Saturday\, September 3 from 10-3!
X-ALT-DESC;FMTTYPE=text/html:<span style="color: rgb(5\, 5\, 5)\; font-family: &quot\;Segoe UI Historic&quot\;\, &quot\;Segoe UI&quot\;\, Helvetica\, Arial\, sans-serif\; font-size: 15px\;">Help us celebrate our 3rd Anniversary and Fall Open House\, as well as the Cow Chip Festival! Browse our unique selection of handmade &amp\; vin-tique Fall Decor\, and don&rsquo\;t forget to shop our outdoor Mini Market featuring many of our talented Vendors! Open Friday\, September 2 from 10-5 and Saturday\, September 3 from 10-3!</span>
LOCATION:ReTwist-T 515 Water Street Sauk City\, WI 53583
UID:e.1184.28670
SEQUENCE:3
DTSTAMP:20260421T061536Z
URL:http://members.saukprairie.com/events/details/retwist-t-fall-open-house-mini-market-28670
END:VEVENT

END:VCALENDAR
