BEGIN:VCALENDAR
VERSION:2.0
PRODID:-//ChamberMaster//Event Calendar 2.0//EN
METHOD:PUBLISH
X-PUBLISHED-TTL:P3D
REFRESH-INTERVAL:P3D
CALSCALE:GREGORIAN
BEGIN:VEVENT
DTSTART;VALUE=DATE:20220118
DTEND;VALUE=DATE:20220119
TRANSP:TRANSPARENT
X-MICROSOFT-CDO-ALLDAYEVENT:TRUE
SUMMARY:Ribbon Cutting - Brunker Realty & Country Sass Gift Shop
DESCRIPTION:Join Brunker Realty Group and Country Sass Gift Shop as we do a Ribbon Cutting Ceremony at 12pm!
X-ALT-DESC;FMTTYPE=text/html:Join Brunker Realty Group and Country Sass Gift Shop as we do a Ribbon Cutting Ceremony at 12pm!<br />\n&nbsp\;
LOCATION:525 Water Street Prairie du Sac
UID:e.1184.27051
SEQUENCE:3
DTSTAMP:20260421T174245Z
URL:http://members.saukprairie.com/events/details/ribbon-cutting-brunker-realty-country-sass-gift-shop-27051
END:VEVENT

END:VCALENDAR
