BEGIN:VCALENDAR
VERSION:2.0
PRODID:-//ChamberMaster//Event Calendar 2.0//EN
METHOD:PUBLISH
X-PUBLISHED-TTL:P3D
REFRESH-INTERVAL:P3D
CALSCALE:GREGORIAN
BEGIN:VEVENT
DTSTART:20190813T150000Z
DTEND:20190813T160000Z
X-MICROSOFT-CDO-ALLDAYEVENT:FALSE
SUMMARY:Ribbon Cutting & Open House - Edward Jones
DESCRIPTION:Please join us for a Ribbon Cutting at 10am and an open house to follow for Edward Jones - Laurie Dischler's new office space!
X-ALT-DESC;FMTTYPE=text/html:Please join us for a Ribbon Cutting at 10am and an open house to follow for Edward Jones - Laurie Dischler&#39\;s new office space!
LOCATION:2000 Prairie St. Suite 200 Prairie du Sac
UID:e.1184.22594
SEQUENCE:3
DTSTAMP:20260423T141723Z
URL:http://members.saukprairie.com/events/details/ribbon-cutting-open-house-edward-jones-22594
END:VEVENT

END:VCALENDAR
