BEGIN:VCALENDAR
VERSION:2.0
PRODID:-//ChamberMaster//Event Calendar 2.0//EN
METHOD:PUBLISH
X-PUBLISHED-TTL:P3D
REFRESH-INTERVAL:P3D
CALSCALE:GREGORIAN
BEGIN:VEVENT
DTSTART:20190311T220000Z
DTEND:20190312T000000Z
X-MICROSOFT-CDO-ALLDAYEVENT:FALSE
SUMMARY:Ribbon Cutting: Slumberland Furniture Baraboo
DESCRIPTION:Countryside Refind products will now be available for purchase at Slumberland Furniture! Join us for a RIBBON CUTTING AND OPENING CELEBRATION!
X-ALT-DESC;FMTTYPE=text/html:Countryside Refind products will now be available for purchase at Slumberland Furniture! Join us for a RIBBON CUTTING AND OPENING CELEBRATION!
LOCATION:Slumberland Furniture Baraboo 315 W. Pine Street Baraboo\, WI 53913
UID:e.1184.22091
SEQUENCE:3
DTSTAMP:20260423T202033Z
URL:http://members.saukprairie.com/events/details/ribbon-cutting-slumberland-furniture-baraboo-22091
END:VEVENT

END:VCALENDAR
