BEGIN:VCALENDAR
VERSION:2.0
PRODID:-//ChamberMaster//Event Calendar 2.0//EN
METHOD:PUBLISH
X-PUBLISHED-TTL:P3D
REFRESH-INTERVAL:P3D
CALSCALE:GREGORIAN
BEGIN:VEVENT
DTSTART:20220224T220000Z
DTEND:20220225T000000Z
X-MICROSOFT-CDO-ALLDAYEVENT:FALSE
SUMMARY:Ribbon Cutting - Stemmed from Grace
DESCRIPTION:Join Stemmed from Grace for their Grand Opening and as we do a Ribbon Cutting Ceremony at 4:30pm!
X-ALT-DESC;FMTTYPE=text/html:Join Stemmed from Grace for their Grand Opening and as we do a Ribbon Cutting Ceremony at 4:30pm!<br />\n&nbsp\;
LOCATION:725 Water Street Sauk City
UID:e.1184.27095
SEQUENCE:3
DTSTAMP:20260421T160409Z
URL:http://members.saukprairie.com/events/details/ribbon-cutting-stemmed-from-grace-27095
END:VEVENT

END:VCALENDAR
