BEGIN:VCALENDAR
VERSION:2.0
PRODID:-//ChamberMaster//Event Calendar 2.0//EN
METHOD:PUBLISH
X-PUBLISHED-TTL:P3D
REFRESH-INTERVAL:P3D
CALSCALE:GREGORIAN
BEGIN:VEVENT
DTSTART:20160507T000000Z
DTEND:20160507T020000Z
X-MICROSOFT-CDO-ALLDAYEVENT:FALSE
SUMMARY:Rising Stars House Concert - Featuring Sauk Prairie Youth
DESCRIPTION:An annual event at River Arts on Water Gallery\, this house concert features the talents of Sauk Prairie's youth in a casual variety style concert.\n\n \n\nAll donations received at this house concert will benefit the Sauk Prairie Music Association.
X-ALT-DESC;FMTTYPE=text/html:<p style="margin-left:0px\; margin-right:0px">An annual event at River Arts on Water Gallery\, this house concert features the talents of Sauk Prairie&rsquo\;s youth in a casual variety style concert.</p>\n\n<div style="background:rgb(235\, 235\, 235)\; border:0px\; padding:0px">&nbsp\;</div>\n\n<p style="margin-left:0px\; margin-right:0px">All donations received at this house concert will benefit the Sauk Prairie Music Association.</p>\n
LOCATION:River Arts\, Inc. 590 Water St. Prairie du Sac
UID:e.1184.8400
SEQUENCE:3
DTSTAMP:20260426T020452Z
URL:http://members.saukprairie.com/events/details/rising-stars-house-concert-featuring-sauk-prairie-youth-05-06-2016-8400
END:VEVENT

END:VCALENDAR
