BEGIN:VCALENDAR
VERSION:2.0
PRODID:-//ChamberMaster//Event Calendar 2.0//EN
METHOD:PUBLISH
X-PUBLISHED-TTL:P3D
REFRESH-INTERVAL:P3D
CALSCALE:GREGORIAN
BEGIN:VEVENT
DTSTART:20160604T180000Z
DTEND:20160604T220000Z
X-MICROSOFT-CDO-ALLDAYEVENT:FALSE
SUMMARY:River Arts Inc. Plant Sale
DESCRIPTION:Plant Sale: June 4th 1pm-5pm\n\nnext to River Arts on Water Gallery (590 Water St\, Prairie du Sac)\n\nSun\, shade\, and succulent plants will be available at a great price and support River Arts Inc's mission "to inspire\, enrich\, and educate the community through the arts."
X-ALT-DESC;FMTTYPE=text/html:<p style="margin-left:0px\; margin-right:0px"><strong>Plant Sale: June 4th 1pm-5pm</strong></p>\n\n<p style="margin-left:0px\; margin-right:0px">next to River Arts on Water Gallery (590 Water St\, Prairie du Sac)</p>\n\n<p style="margin-left:0px\; margin-right:0px">Sun\, shade\, and succulent plants will be available at a great price and support River Arts Inc&rsquo\;s mission &ldquo\;to inspire\, enrich\, and educate the community through the arts.&rdquo\;</p>\n
LOCATION:River Arts on Water Gallery (590 Water St\, downtown Prairie du Sac)
UID:e.1184.8357
SEQUENCE:3
DTSTAMP:20260426T004047Z
URL:http://members.saukprairie.com/events/details/river-arts-inc-plant-sale-06-04-2016-8357
END:VEVENT

END:VCALENDAR
