BEGIN:VCALENDAR
VERSION:2.0
PRODID:-//ChamberMaster//Event Calendar 2.0//EN
METHOD:PUBLISH
X-PUBLISHED-TTL:P3D
REFRESH-INTERVAL:P3D
CALSCALE:GREGORIAN
BEGIN:VEVENT
DTSTART:20180604T220000Z
DTEND:20180605T000000Z
X-MICROSOFT-CDO-ALLDAYEVENT:FALSE
SUMMARY:River Arts\, Inc. Studio Ribbon Cutting Event
DESCRIPTION:Please join River Arts\, Inc. for a Ribbon Cutting on June 4th\, 2018.\n\n\n\nPlease RSVP for the Ribbon Cutting to spacc@saukprairie.com
X-ALT-DESC;FMTTYPE=text/html:Please join River Arts\, Inc. for a Ribbon Cutting on June 4th\, 2018.<br />\n<br />\nPlease RSVP for the&nbsp\;Ribbon Cutting to&nbsp\;spacc@saukprairie.com
LOCATION:
UID:e.1184.14693
SEQUENCE:3
DTSTAMP:20260424T112133Z
URL:http://members.saukprairie.com/events/details/river-arts-inc-studio-ribbon-cutting-event-14693
END:VEVENT

END:VCALENDAR
