BEGIN:VCALENDAR
VERSION:2.0
PRODID:-//ChamberMaster//Event Calendar 2.0//EN
METHOD:PUBLISH
X-PUBLISHED-TTL:P3D
REFRESH-INTERVAL:P3D
CALSCALE:GREGORIAN
BEGIN:VEVENT
DTSTART:20160602T180000Z
DTEND:20160602T230000Z
X-MICROSOFT-CDO-ALLDAYEVENT:FALSE
SUMMARY:Riverhills Community Church Blood Drive
DESCRIPTION:Donate Blood in Memory of Logan Heiser\n\n\n\nLogan's life was cut short at 18 years of age. Honoring his wishes of being an organ donor\, he has gone on to save many lives. Please help us honor Logan's memory and continue to save lives by donating blood at this special drive hosted by his family.\n\n\n\nAppointments preferred\; walk-ins welcome!\n\n\n\nFor an appointment\, please visit recrossblood.org or call 1-800-733-2767.
X-ALT-DESC;FMTTYPE=text/html:Donate Blood in Memory of Logan Heiser<br />\n<br />\nLogan&#39\;s life was cut short at 18 years of age. Honoring his wishes of being an organ donor\, he has gone on to save many lives. Please help us honor Logan&#39\;s memory and continue to save lives by donating blood at this special drive hosted by his family.<br />\n<br />\nAppointments preferred\; walk-ins welcome!<br />\n<br />\nFor an appointment\, please visit recrossblood.org or call 1-800-733-2767.
LOCATION:1111 Sycamore Street Sauk City\, WI 53583
UID:e.1184.8539
SEQUENCE:3
DTSTAMP:20260426T004054Z
URL:http://members.saukprairie.com/events/details/riverhills-community-church-blood-drive-06-02-2016-8539
END:VEVENT

END:VCALENDAR
