BEGIN:VCALENDAR
VERSION:2.0
PRODID:-//ChamberMaster//Event Calendar 2.0//EN
METHOD:PUBLISH
X-PUBLISHED-TTL:P3D
REFRESH-INTERVAL:P3D
CALSCALE:GREGORIAN
BEGIN:VEVENT
DTSTART:20160621T233000Z
DTEND:20160622T013000Z
X-MICROSOFT-CDO-ALLDAYEVENT:FALSE
SUMMARY:Riverway Concerts in the Park - Pacific Coast Highway (PHC)
DESCRIPTION:Pacific Coast Highway (PCH) - www.pchband.com\n\n\n	Food available for purchase from non-profits.
X-ALT-DESC;FMTTYPE=text/html:<br />\n<span style="color: rgb(31\, 73\, 125)\; font-family: &quot\;Calibri&quot\;\,&quot\;sans-serif&quot\;\; font-size: 11pt\; mso-fareast-language: EN-US\; mso-fareast-font-family: Calibri\; mso-ansi-language: EN-US\; mso-bidi-language: AR-SA\; mso-fareast-theme-font: minor-latin\; mso-bidi-font-family: &quot\;Times New Roman&quot\;\;"><span style="font-size: 18px\;"><strong>Pacific Coast Highway (PCH) -&nbsp\;</strong></span></span><a href="http://www.pchband.com/">www.pchband.com</a>\n\n<ul>\n	<li><span style="font-family: arial\;">Food available for purchase from non-profits.</span></li>\n</ul>\n
LOCATION:Meyer Oak Grove Park
UID:e.1184.5856
SEQUENCE:3
DTSTAMP:20260426T004011Z
URL:http://members.saukprairie.com/events/details/riverway-concerts-in-the-park-pacific-coast-highway-phc-06-21-2016-5856
END:VEVENT

END:VCALENDAR
