BEGIN:VCALENDAR
VERSION:2.0
PRODID:-//ChamberMaster//Event Calendar 2.0//EN
METHOD:PUBLISH
X-PUBLISHED-TTL:P3D
REFRESH-INTERVAL:P3D
CALSCALE:GREGORIAN
BEGIN:VEVENT
DTSTART:20160628T233000Z
DTEND:20160629T013000Z
X-MICROSOFT-CDO-ALLDAYEVENT:FALSE
SUMMARY:Riverway Concerts in the Park - Swifkick
DESCRIPTION:Swifkick - \n\n5 musicians from the Baraboo/Madison area who bring to the stage a variety of new top 40 country music and some classic rock.\n\n \n\n	Food available for purchase from non-profits.
X-ALT-DESC;FMTTYPE=text/html:<br />\n<span style="color: rgb(31\, 73\, 125)\; font-family: &quot\;Calibri&quot\;\,&quot\;sans-serif&quot\;\; font-size: 11pt\; mso-fareast-language: EN-US\; mso-fareast-font-family: Calibri\; mso-ansi-language: EN-US\; mso-bidi-language: AR-SA\; mso-fareast-theme-font: minor-latin\; mso-bidi-font-family: &quot\;Times New Roman&quot\;\;"><span style="font-size: 18px\;"><strong>Swifkick&nbsp\;- </strong></span></span><br />\n<span style="color: rgb(31\, 73\, 125)\;"><span style="font-size: medium\;"><span style="font-family: calibri\;">5 musicians from the Baraboo/Madison area who bring to the stage a variety of new top 40 country music and some classic rock.</span></span></span><br />\n&nbsp\;\n<ul>\n	<li><span style="font-family: arial\;">Food available for purchase from non-profits.</span></li>\n</ul>\n
LOCATION:Meyer Oak Grove Park
UID:e.1184.5857
SEQUENCE:3
DTSTAMP:20260426T004200Z
URL:http://members.saukprairie.com/events/details/riverway-concerts-in-the-park-swifkick-06-28-2016-5857
END:VEVENT

END:VCALENDAR
