BEGIN:VCALENDAR
VERSION:2.0
PRODID:-//ChamberMaster//Event Calendar 2.0//EN
METHOD:PUBLISH
X-PUBLISHED-TTL:P3D
REFRESH-INTERVAL:P3D
CALSCALE:GREGORIAN
BEGIN:VEVENT
DTSTART:20180828T200000Z
DTEND:20180828T230000Z
X-MICROSOFT-CDO-ALLDAYEVENT:FALSE
SUMMARY:Riverway Farmers' Market
DESCRIPTION:Tuesdays till September 11 for locally grown food and locally made crafts.
X-ALT-DESC;FMTTYPE=text/html:Tuesdays till September 11 for locally grown food and locally made crafts.
LOCATION:McFarlanes' Retail and Service Center Parking Lot
UID:e.1184.20548
SEQUENCE:3
DTSTAMP:20260424T083152Z
URL:http://members.saukprairie.com/events/details/riverway-farmers-market-08-28-2018-20548
END:VEVENT

END:VCALENDAR
