BEGIN:VCALENDAR
VERSION:2.0
PRODID:-//ChamberMaster//Event Calendar 2.0//EN
METHOD:PUBLISH
X-PUBLISHED-TTL:P3D
REFRESH-INTERVAL:P3D
CALSCALE:GREGORIAN
BEGIN:VEVENT
DTSTART:20160825T180000Z
DTEND:20160825T220000Z
X-MICROSOFT-CDO-ALLDAYEVENT:FALSE
SUMMARY:RN Career Fair
DESCRIPTION:Come learn more about working and volunteering at Agrace. No pre-registration is needed. Job seekers bring your resume for same day interviews. Anyone interested in volunteering is also welcome. Those interested but unable to attend should call 1-800-553-4289.
X-ALT-DESC;FMTTYPE=text/html:Come learn more about working and volunteering at Agrace. No pre-registration is needed. Job seekers bring your resume for same day interviews. Anyone interested in volunteering is also welcome. Those interested but unable to attend should call 1-800-553-4289.
LOCATION:Agrace Hospice and Palliative Care 1670 South Blvd. Baraboo\,k WI
UID:e.1184.9094
SEQUENCE:3
DTSTAMP:20260425T210150Z
URL:http://members.saukprairie.com/events/details/rn-career-fair-08-25-2016-9094
END:VEVENT

END:VCALENDAR
