BEGIN:VCALENDAR
VERSION:2.0
PRODID:-//ChamberMaster//Event Calendar 2.0//EN
METHOD:PUBLISH
X-PUBLISHED-TTL:P3D
REFRESH-INTERVAL:P3D
CALSCALE:GREGORIAN
BEGIN:VEVENT
DTSTART:20180723T180000Z
DTEND:20180723T190000Z
X-MICROSOFT-CDO-ALLDAYEVENT:FALSE
SUMMARY:Rob the Magician
DESCRIPTION:Magic Rob will take you on a magical adventure at the Ruth Culver Community Library Monday\, July 23 at 1:00 p.m.   Explore remarkable worlds\, meet outrageous characters\, and learn how to do extraordinary things. The show is full of lots of audience participation\, story-telling\, comedy\, and MAGIC! Contact Beth at 643-8318 with questions.
X-ALT-DESC;FMTTYPE=text/html:Magic Rob will take you on a magical adventure at the Ruth Culver Community Library Monday\, July 23 at 1:00 p.m.&nbsp\;&nbsp\; Explore remarkable worlds\, meet outrageous characters\, and learn how to do extraordinary things. The show is full of lots of audience participation\, story-telling\, comedy\, and MAGIC! Contact Beth at 643-8318 with questions.
LOCATION:Ruth Culver Community Library 540 Water Street\, Prairie du Sac
UID:e.1184.18119
SEQUENCE:3
DTSTAMP:20260424T082606Z
URL:http://members.saukprairie.com/events/details/rob-the-magician-18119
END:VEVENT

END:VCALENDAR
