BEGIN:VCALENDAR
VERSION:2.0
PRODID:-//ChamberMaster//Event Calendar 2.0//EN
METHOD:PUBLISH
X-PUBLISHED-TTL:P3D
REFRESH-INTERVAL:P3D
CALSCALE:GREGORIAN
BEGIN:VEVENT
DTSTART:20180418T193000Z
DTEND:20180418T203000Z
X-MICROSOFT-CDO-ALLDAYEVENT:FALSE
SUMMARY:Robots!
DESCRIPTION:It's all about robots at the Ruth Culver Community Library Wednesday\, April 18 at 2:30 p.m.  Children are invited to create their own robots out of recycled parts and play with ozobot robots.  This event is appropriate for children in grades K-5. Contact Beth at 643-8318 with questions.
X-ALT-DESC;FMTTYPE=text/html:It&#39\;s all about robots at the Ruth Culver Community Library Wednesday\, April 18 at 2:30 p.m.&nbsp\; Children are invited to create their own robots out of recycled parts and play with ozobot robots.&nbsp\; This event is appropriate for children in grades K-5. Contact Beth at 643-8318 with questions.
LOCATION:Ruth Culver Community Library 540 Water Street\, Prairie du Sac
UID:e.1184.14589
SEQUENCE:3
DTSTAMP:20260424T125348Z
URL:http://members.saukprairie.com/events/details/robots-14589
END:VEVENT

END:VCALENDAR
