BEGIN:VCALENDAR
VERSION:2.0
PRODID:-//ChamberMaster//Event Calendar 2.0//EN
METHOD:PUBLISH
X-PUBLISHED-TTL:P3D
REFRESH-INTERVAL:P3D
CALSCALE:GREGORIAN
BEGIN:VEVENT
DTSTART:20181212T230000Z
DTEND:20181213T010000Z
X-MICROSOFT-CDO-ALLDAYEVENT:FALSE
SUMMARY:Rock N Wool Wine Tasting at H’s Place!
DESCRIPTION:Hi everyone\, We will be having a wine tasting from a local winery out of Poynette the Rock n Wool winery on December 12th from 5-7 pm. Also\, we will have a variety of Carr Valley cheeses and assortment of sweets to accentuate the different wines that we will be serving. We also will have the beautiful Lu's bracelets which is the perfect Christmas gift and it's just right around the corner! I hope you all may join us on this fun filled evening !
X-ALT-DESC;FMTTYPE=text/html:<span style="color: rgb(29\, 33\, 41)\; font-family: Helvetica\, Arial\, sans-serif\; font-size: 14px\;">Hi everyone\, We will be having a wine tasting from a local winery out of Poynette the Rock n Wool winery on December 12th from 5-7 pm. Also\, we will have a variety of Carr Valley cheeses and assortment of sweets to accentuate the different wines that we will be serving. We also will have the beautiful Lu&rsquo\;s bracelets which is the perfect Christmas gift and it&rsquo\;s just right around the corner! I hope you all may join us on this fun filled evening !</span>
LOCATION:H's Place E13105 Hwy 78 Merrimac\, WI 53561
UID:e.1184.21596
SEQUENCE:3
DTSTAMP:20260424T003913Z
URL:http://members.saukprairie.com/events/details/rock-n-wool-wine-tasting-at-h-s-place-21596
END:VEVENT

END:VCALENDAR
