BEGIN:VCALENDAR
VERSION:2.0
PRODID:-//ChamberMaster//Event Calendar 2.0//EN
METHOD:PUBLISH
X-PUBLISHED-TTL:P3D
REFRESH-INTERVAL:P3D
CALSCALE:GREGORIAN
BEGIN:VEVENT
DTSTART:20190208T223000Z
DTEND:20190209T033000Z
X-MICROSOFT-CDO-ALLDAYEVENT:FALSE
SUMMARY:Rock The Gym
DESCRIPTION:Get Ready to Rock the Gym on February 8th with the Sauk Prairie Sports Boosters. There will be 6 basketball games\, bucket raffles\, cash drawing\, shooting contests\, 50/50 raffle\, youth scrimagges and community fellowship. It will be a great night!! All funds raised support all of the athletic teams. Come early-win some great prizes- and cheer on your Eagles. See you there
X-ALT-DESC;FMTTYPE=text/html:<span style="color: rgb(29\, 33\, 41)\; font-family: Helvetica\, Arial\, sans-serif\; font-size: 14px\; white-space: pre-wrap\;">Get Ready to Rock the Gym on February 8th with the Sauk Prairie Sports Boosters. There will be 6 basketball games\, bucket raffles\, cash drawing\, shooting contests\, 50/50 raffle\, youth scrimagges and community fellowship. It will be a great night!! All funds raised support all of the athletic teams. Come early-win some great prizes- and cheer on your Eagles. See you there</span>
LOCATION:Sauk Prairie High School 105 9th Street Prairie du Sac\, WI 53578
UID:e.1184.22007
SEQUENCE:3
DTSTAMP:20260423T213009Z
URL:http://members.saukprairie.com/events/details/rock-the-gym-22007
END:VEVENT

END:VCALENDAR
