BEGIN:VCALENDAR
VERSION:2.0
PRODID:-//ChamberMaster//Event Calendar 2.0//EN
METHOD:PUBLISH
X-PUBLISHED-TTL:P3D
REFRESH-INTERVAL:P3D
CALSCALE:GREGORIAN
BEGIN:VEVENT
DTSTART:20220212T223000Z
DTEND:20220213T033000Z
X-MICROSOFT-CDO-ALLDAYEVENT:FALSE
SUMMARY:Rock The Gym
DESCRIPTION:Rock the gym is our annual winter event that helps spotlight Sauk Prairie basketball\, while providing spectators many opportunities to win some great prizes donated by our local business and community partners. Music\, half court shots\, free throw shots it's all part of this fun night! This event benefits ALL Sauk Prairie Middle and High school Sports so please come to support our athletes by participating. If you would like to make a donation please contact a member of the Sports Boosters!
X-ALT-DESC;FMTTYPE=text/html:<span style="color: rgb(29\, 33\, 41)\; font-family: Helvetica\, Arial\, sans-serif\; font-size: 14px\; white-space: pre-wrap\;">Rock the gym is our annual winter event that helps spotlight Sauk Prairie basketball\, while providing spectators many opportunities to win some great prizes donated by our local business and community partners. Music\, half court shots\, free throw shots&hellip\;it&rsquo\;s all part of this fun night! This event benefits ALL Sauk Prairie Middle and High school Sports so please come to support our athletes by participating. If you would like to make a donation please contact a member of the Sports Boosters!</span>
LOCATION:Sauk Prairie High School 105 9th Street Prairie du Sac\, WI 53578
UID:e.1184.26905
SEQUENCE:3
DTSTAMP:20260421T160315Z
URL:http://members.saukprairie.com/events/details/rock-the-gym-26905
END:VEVENT

END:VCALENDAR
