BEGIN:VCALENDAR
VERSION:2.0
PRODID:-//ChamberMaster//Event Calendar 2.0//EN
METHOD:PUBLISH
X-PUBLISHED-TTL:P3D
REFRESH-INTERVAL:P3D
CALSCALE:GREGORIAN
BEGIN:VEVENT
DTSTART:20161008T000000Z
DTEND:20161008T020000Z
X-MICROSOFT-CDO-ALLDAYEVENT:FALSE
SUMMARY:Rockin' the Ranch
DESCRIPTION:Wisconsin author and musician\, Michael Perry\, and his band\, the Long Beds will play a "Rockin' for the Ranch" benefit concert for Kids' Ranch at the CAL Center\, 1100 S. Albert Ave.\, Reedsburg\, on Friday\, Oct. 7 at 7 p.m. Kids' Ranch serves children\, ages 6-12\, in the Baraboo\, Reedsburg\, Sauk Prairie\, and Wisconsin Dells areas who are facing life challenges such as poverty\, abuse and learning disabilities by connecting them with caring community volunteers in its literacy and summer day camp programs. Although a nominal fee is charged for the summer day camp and the school year tutoring programs\, most children receive scholarships\; Kids' Ranch operates on volunteer donations. General admission tickets may be purchased online at www.midwestix.com for$15 beginning Aug.1 or in Reedsburg at the Viking Village Foods courtesy counter or in Baraboo at Recycled Sally's on the square. To learn more about Kids' Ranch visit www.thekidsranch.org.
X-ALT-DESC;FMTTYPE=text/html:Wisconsin author and musician\, Michael Perry\, and his band\, the Long Beds will play a &ldquo\;Rockin&rsquo\; for the Ranch&rdquo\; benefit concert for Kids&rsquo\; Ranch at the CAL Center\, 1100 S. Albert Ave.\, Reedsburg\, on Friday\, Oct. 7 at 7 p.m. Kids&rsquo\; Ranch serves children\, ages 6-12\, in the Baraboo\, Reedsburg\, Sauk Prairie\, and Wisconsin Dells areas who are facing life challenges such as poverty\, abuse and learning disabilities by connecting them with caring community volunteers in its literacy and summer day camp programs. Although a nominal fee is charged for the summer day camp and the school year tutoring programs\, most children receive scholarships\; Kids&rsquo\; Ranch operates on volunteer donations. General admission tickets may be purchased online at www.midwestix.com for$15 beginning Aug.1 or in Reedsburg at the Viking Village Foods courtesy counter or in Baraboo at Recycled Sally&#39\;s on the square. To learn more about Kids&#39\; Ranch visit www.thekidsranch.org.
LOCATION:CAL Center in Reedsburg High School\, 1100 S. Albert Ave.\, Reedsburg\, WI
UID:e.1184.9089
SEQUENCE:3
DTSTAMP:20260425T173828Z
URL:http://members.saukprairie.com/events/details/rockin-the-ranch-10-07-2016-9089
END:VEVENT

END:VCALENDAR
