BEGIN:VCALENDAR
VERSION:2.0
PRODID:-//ChamberMaster//Event Calendar 2.0//EN
METHOD:PUBLISH
X-PUBLISHED-TTL:P3D
REFRESH-INTERVAL:P3D
CALSCALE:GREGORIAN
BEGIN:VEVENT
DTSTART;VALUE=DATE:20221204
DTEND;VALUE=DATE:20221205
TRANSP:TRANSPARENT
X-MICROSOFT-CDO-ALLDAYEVENT:TRUE
SUMMARY:Roxbury Trap - Winter League
DESCRIPTION:Start of Roxbury Valley Trap Clubs 8-week winter league. Shooting starts at 9am. Shooting is open to the public & is individual shooting (no need to have a team to shoot).
X-ALT-DESC;FMTTYPE=text/html:Start of Roxbury Valley Trap Clubs 8-week winter league. Shooting starts at 9am. Shooting is open to the public &amp\; is individual shooting (no need to have a team to shoot).&nbsp\;
LOCATION:
UID:e.1184.28760
SEQUENCE:3
DTSTAMP:20260421T004033Z
URL:http://members.saukprairie.com/events/details/roxbury-trap-winter-league-28760
END:VEVENT

END:VCALENDAR
