BEGIN:VCALENDAR
VERSION:2.0
PRODID:-//ChamberMaster//Event Calendar 2.0//EN
METHOD:PUBLISH
X-PUBLISHED-TTL:P3D
REFRESH-INTERVAL:P3D
CALSCALE:GREGORIAN
BEGIN:VEVENT
DTSTART;VALUE=DATE:20240818
DTEND;VALUE=DATE:20240819
TRANSP:TRANSPARENT
X-MICROSOFT-CDO-ALLDAYEVENT:TRUE
SUMMARY:Roxbury Valley Trap Club Bruno Shoot & Chicken BBQ Dinner
DESCRIPTION:Bruno Shoot & Raffle\n\n\nMerchandise Shoot & Chicken BBQ\n\n\n\nShooting starts at 9AM\n\nMerchandise\, Back-ups and Annie Oakley's\n\n\n\nMeat Raffle\n\n \n\nBruno Raffle starts at 1PM.  Buy more tickets.\n\n\n\nWorld Famous Chicken BBQ serving at 11:30 until we're out. Dine in or to-go. \n\n\n\nDinner includes:\n\n	Steve & Mike's Famous Chicken BBQ\n	Potato Salad\n	Coleslaw\n	Baked Beans\n	Pickles\n	Dinner Rolls\n\nBring the whole the family!!
X-ALT-DESC;FMTTYPE=text/html:<div>Bruno Shoot &amp\; Raffle</div>\n\n<div data-aid="CALENDAR_DESC" data-ux="Block">\n<p data-aid="CALENDAR_DESC_TEXT" data-typography="BodyAlpha" data-ux="Text">Merchandise Shoot &amp\;&nbsp\;Chicken BBQ<br />\n<br />\nShooting starts at 9AM<br />\nMerchandise\, Back-ups and Annie Oakley&#39\;s<br />\n<br />\nMeat Raffle<br />\n&nbsp\;<br />\nBruno Raffle starts at 1PM.&nbsp\; Buy more tickets.<br />\n<br />\nWorld Famous Chicken BBQ serving at 11:30 until we&#39\;re out. Dine in or to-go.&nbsp\;</p>\n</div>\n<br />\nDinner includes:\n<ul>\n	<li>Steve &amp\; Mike&#39\;s Famous Chicken BBQ</li>\n	<li>Potato Salad</li>\n	<li>Coleslaw</li>\n	<li>Baked Beans</li>\n	<li>Pickles</li>\n	<li>Dinner Rolls</li>\n</ul>\nBring the whole the family!!
LOCATION:Roxbury Valley Trap Club
UID:e.1184.31541
SEQUENCE:3
DTSTAMP:20260419T175512Z
URL:http://members.saukprairie.com/events/details/roxbury-valley-trap-club-bruno-shoot-chicken-bbq-dinner-31541
END:VEVENT

END:VCALENDAR
