BEGIN:VCALENDAR
VERSION:2.0
PRODID:-//ChamberMaster//Event Calendar 2.0//EN
METHOD:PUBLISH
X-PUBLISHED-TTL:P3D
REFRESH-INTERVAL:P3D
CALSCALE:GREGORIAN
BEGIN:VEVENT
DTSTART:20220616T171000Z
DTEND:20220617T001000Z
X-MICROSOFT-CDO-ALLDAYEVENT:FALSE
SUMMARY:Ruth Culver Community Library 10th Anniversary Celebration
DESCRIPTION:Help us celebrate the 10th Anniversary of the location of the Ruth Culver Community Library. There will be food\, prizes\, displays\, fun & more!
X-ALT-DESC;FMTTYPE=text/html:Help us celebrate the 10th Anniversary of the location of the Ruth Culver Community Library. There will be food\, prizes\, displays\, fun &amp\; more!
LOCATION:540 Water Street\, Prairie du Sac\, WI 53578
UID:e.1184.27974
SEQUENCE:3
DTSTAMP:20260421T115905Z
URL:http://members.saukprairie.com/events/details/ruth-culver-community-library-10th-anniversary-celebration-27974
END:VEVENT

END:VCALENDAR
