BEGIN:VCALENDAR
VERSION:2.0
PRODID:-//ChamberMaster//Event Calendar 2.0//EN
METHOD:PUBLISH
X-PUBLISHED-TTL:P3D
REFRESH-INTERVAL:P3D
CALSCALE:GREGORIAN
BEGIN:VEVENT
DTSTART;VALUE=DATE:20180905
DTEND;VALUE=DATE:20180906
TRANSP:TRANSPARENT
X-MICROSOFT-CDO-ALLDAYEVENT:TRUE
SUMMARY:Ruth Culver Community Library Dinner & Golf Outing Fundraiser
DESCRIPTION:10th Annual Dinner and Golf Outing to support the Ruth Culver Community Library will be held September 5 at Lake Wisconsin Country Club. Join us for the day or come just for the dinner! Registration forms and more information are available in the library and online at https://www.pdslibrary.org/golf-outing-2018.
X-ALT-DESC;FMTTYPE=text/html:10th Annual Dinner and Golf Outing to support the Ruth Culver Community Library&nbsp\;will be held September 5 at Lake Wisconsin Country Club.&nbsp\;Join us for the day or come just for the dinner! Registration forms and more information are available in the library and online at https://www.pdslibrary.org/golf-outing-2018.&nbsp\;
LOCATION:Lake Wisconsin Country Club
UID:e.1184.20433
SEQUENCE:3
DTSTAMP:20260424T050634Z
URL:http://members.saukprairie.com/events/details/ruth-culver-community-library-dinner-golf-outing-fundraiser-20433
END:VEVENT

END:VCALENDAR
