BEGIN:VCALENDAR
VERSION:2.0
PRODID:-//ChamberMaster//Event Calendar 2.0//EN
METHOD:PUBLISH
X-PUBLISHED-TTL:P3D
REFRESH-INTERVAL:P3D
CALSCALE:GREGORIAN
BEGIN:VEVENT
DTSTART:20160430T220000Z
DTEND:20160501T020000Z
X-MICROSOFT-CDO-ALLDAYEVENT:FALSE
SUMMARY:Ruth Culver Community Library Trivia Contest
DESCRIPTION:3rd Annual Ruth Culver Community Library Trivia Contest. Information is available at www.pdslibrary.org or at the Ruth Culver Community Library.
X-ALT-DESC;FMTTYPE=text/html:3rd Annual Ruth Culver Community Library Trivia Contest. Information is available at www.pdslibrary.org or at the Ruth Culver Community Library.
LOCATION:St. Aloysius School gym
UID:e.1184.4792
SEQUENCE:3
DTSTAMP:20260426T032936Z
URL:http://members.saukprairie.com/events/details/ruth-culver-community-library-trivia-contest-04-30-2016-4792
END:VEVENT

END:VCALENDAR
