BEGIN:VCALENDAR
VERSION:2.0
PRODID:-//ChamberMaster//Event Calendar 2.0//EN
METHOD:PUBLISH
X-PUBLISHED-TTL:P3D
REFRESH-INTERVAL:P3D
CALSCALE:GREGORIAN
BEGIN:VEVENT
DTSTART:20190503T000000Z
DTEND:20190503T020000Z
X-MICROSOFT-CDO-ALLDAYEVENT:FALSE
SUMMARY:Ryan Mauer at Vintage
DESCRIPTION:Live music at Sauk City's Vintage Brewing Company!
X-ALT-DESC;FMTTYPE=text/html:<div id="u_fetchstream_7_t" style="font-family: Helvetica\, Arial\, sans-serif\; color: rgb(29\, 33\, 41)\; font-size: 12px\; background-color: rgb(233\, 235\, 238)\;">\n<div style="font-family: inherit\;">\n<div class="_4l8o _4-u2  _4-u8" style="border-width: 1px 0px\; border-style: solid\; border-color: transparent\; border-image: initial\; border-radius: 3px\; background-color: rgb(255\, 255\, 255)\; margin-bottom: 8px\; width: 500px\; position: relative\; font-family: inherit\;">\n<div class="_62hs _4-u3" style="border-top: 1px solid rgb(229\, 229\, 229)\; border-bottom-left-radius: 3px\; border-bottom-right-radius: 3px\; font-family: inherit\;">\n<div class="_63es _63et" style="font-family: inherit\;">\n<div class="_63eu" style="box-sizing: border-box\; font-size: 14px\; max-height: 260px\; overflow: hidden\; padding: 12px\; overflow-wrap: break-word\; font-family: inherit\;">\n<div class="_63ew" data-testid="event-permalink-details" style="font-family: inherit\;">\n<div class="_63eu" style="box-sizing: border-box\; font-size: 14px\; max-height: 260px\; overflow: hidden\; padding: 12px\; overflow-wrap: break-word\; font-family: Helvetica\, Arial\, sans-serif\; color: rgb(29\, 33\, 41)\;">\n<div class="_63ew" data-testid="event-permalink-details" style="font-family: inherit\;"><span style="font-family: inherit\;">Live music at Sauk City&#39\;s Vintage Brewing Company!</span></div>\n\n<div>&nbsp\;</div>\n</div>\n</div>\n</div>\n</div>\n</div>\n</div>\n</div>\n</div>\n\n<div id="u_fetchstream_7_u" style="font-family: Helvetica\, Arial\, sans-serif\; color: rgb(29\, 33\, 41)\; font-size: 12px\; background-color: rgb(233\, 235\, 238)\;">\n<div style="font-family: inherit\;">\n<div class="_4l8o _4-u2  _4-u8" style="border-width: 1px 0px\; border-style: solid\; border-color: transparent\; border-image: initial\; border-radius: 3px\; background-color: rgb(255\, 255\, 255)\; margin-bottom: 8px\; width: 500px\; position: relative\; font-family: inherit\;">&nbsp\;</div>\n</div>\n</div>\n
LOCATION:Vintage Brewing Co. 600 Water St. Sauk City
UID:e.1184.21663
SEQUENCE:3
DTSTAMP:20260423T184329Z
URL:http://members.saukprairie.com/events/details/ryan-mauer-at-vintage-21663
END:VEVENT

END:VCALENDAR
