BEGIN:VCALENDAR
VERSION:2.0
PRODID:-//ChamberMaster//Event Calendar 2.0//EN
METHOD:PUBLISH
X-PUBLISHED-TTL:P3D
REFRESH-INTERVAL:P3D
CALSCALE:GREGORIAN
BEGIN:VEVENT
DTSTART:20230211T010000Z
DTEND:20230211T030000Z
X-MICROSOFT-CDO-ALLDAYEVENT:FALSE
SUMMARY:Ryan & Ryan: Going Gershwin
DESCRIPTION:Ryan & Ryan is a dynamic father-son piano duo that blends classic and contemporary music into an enthralling concert experience. Celebrate one of America's greatest composers with Ryan & Ryan's Going Gershwin concert program. From George Gershwin's songs\, "Porgy and Bess\," and "Rhapsody in Blue\," it's full of favorites that will keep you smiling from start to finish. And with two Steinways on the River Arts Center stage\, it's sure to leave the crowd mesmerized.
X-ALT-DESC;FMTTYPE=text/html:<span style="color:rgb(0\, 0\, 0)\; font-family:arial\,helvetica\,sans-serif">Ryan &amp\; Ryan</span><strong>&nbsp\;</strong><span style="color:rgb(0\, 0\, 0)\; font-family:arial\,helvetica\,sans-serif">is a dynamic&nbsp\;father-son piano duo</span><strong>&nbsp\;</strong><span style="color:rgb(0\, 0\, 0)\; font-family:arial\,helvetica\,sans-serif">that blends classic and contemporary music into an enthralling concert experience.&nbsp\;Celebrate one of America&rsquo\;s greatest composers with Ryan &amp\; Ryan&rsquo\;s Going Gershwin</span><em>&nbsp\;</em><span style="color:rgb(0\, 0\, 0)\; font-family:arial\,helvetica\,sans-serif">concert program. From George Gershwin&rsquo\;s songs\, &ldquo\;Porgy and Bess\,&rdquo\; and &ldquo\;Rhapsody in Blue\,&rdquo\; it&rsquo\;s full of favorites that will keep you smiling from start to finish.</span><em>&nbsp\;</em><span style="color:rgb(0\, 0\, 0)\; font-family:arial\,helvetica\,sans-serif">And with two Steinways on the River Arts Center stage\, it&rsquo\;s sure to leave the crowd mesmerized.</span>
LOCATION:105 9th St\, Prairie du Sac\, WI 53578
UID:e.1184.28212
SEQUENCE:3
DTSTAMP:20260420T102147Z
URL:http://members.saukprairie.com/events/details/ryan-ryan-going-gershwin-28212
END:VEVENT

END:VCALENDAR
