BEGIN:VCALENDAR
VERSION:2.0
PRODID:-//ChamberMaster//Event Calendar 2.0//EN
METHOD:PUBLISH
X-PUBLISHED-TTL:P3D
REFRESH-INTERVAL:P3D
CALSCALE:GREGORIAN
BEGIN:VEVENT
DTSTART:20180216T210000Z
DTEND:20180217T010000Z
X-MICROSOFT-CDO-ALLDAYEVENT:FALSE
SUMMARY:Rye Whiskey Pre-Release
DESCRIPTION:Reserve your ticket that includes a bottle of Round Top Rye Whiskey\, spirits tasting\, craft rye whiskey cocktail\, and tasty appetizers prepared by Dan Fox and Heritage Catering\, along with music by guitarist Michael Gellings. Music and food are from 4:30 to 6:30.\n\nLimited spots are available.\n\nThree Ticket Options: \n\n$80 per person\, includes event attendance and 1 bottle\n\n$125 per couple\, includes event attendance for two and 1 bottle\n\n$50 per person\, includes event attendance only\n\nYou must be 21 or older to attend.\n\nClick here to purchase tickets.
X-ALT-DESC;FMTTYPE=text/html:<p style="box-sizing: border-box\; margin: 0px\; padding: 0px 0px 1em\; border: 0px\; outline: 0px\; background: 0px 0px rgb(248\, 241\, 220)\; font-size: 16px\; vertical-align: baseline\; text-size-adjust: 100%\; color: rgb(102\, 102\, 102)\; font-family: Lora\, Georgia\, &quot\;Times New Roman&quot\;\, serif\;">Reserve your ticket that includes a bottle of Round Top Rye Whiskey\, spirits tasting\, craft rye whiskey cocktail\, and tasty appetizers prepared by Dan Fox and Heritage Catering\, along with music by guitarist Michael Gellings. Music and food are from 4:30 to 6:30.<br style="box-sizing: border-box\;" />\nLimited spots are available.</p>\n\n<p style="box-sizing: border-box\; margin: 0px\; padding: 0px 0px 1em\; border: 0px\; outline: 0px\; background: 0px 0px rgb(248\, 241\, 220)\; font-size: 16px\; vertical-align: baseline\; text-size-adjust: 100%\; color: rgb(102\, 102\, 102)\; font-family: Lora\, Georgia\, &quot\;Times New Roman&quot\;\, serif\;"><span style="box-sizing: border-box\; margin: 0px\; padding: 0px\; border: 0px\; outline: 0px\; background: 0px 0px\; vertical-align: baseline\; text-size-adjust: 100%\; font-weight: 700\;">Three Ticket Options:&nbsp\;</span><br style="box-sizing: border-box\;" />\n$80 per person\, includes event attendance and 1 bottle<br style="box-sizing: border-box\;" />\n$125 per couple\, includes event attendance for two and 1 bottle<br style="box-sizing: border-box\;" />\n$50 per person\, includes event attendance only<br style="box-sizing: border-box\;" />\nYou must be 21 or older to attend.</p>\n\n<p style="box-sizing: border-box\; margin: 0px\; padding: 0px\; border: 0px\; outline: 0px\; background: 0px 0px rgb(248\, 241\, 220)\; font-size: 16px\; vertical-align: baseline\; text-size-adjust: 100%\; color: rgb(102\, 102\, 102)\; font-family: Lora\, Georgia\, &quot\;Times New Roman&quot\;\, serif\;"><a href="https://fareharbor.com/wollersheim/items/71151/" rel="noopener" style="box-sizing: border-box\; margin: 0px\; padding: 0px\; border: 0px\; outline: 0px\; background: 0px 0px\; vertical-align: baseline\; text-size-adjust: 100%\; color: rgb(117\, 38\, 52)\; text-decoration-line: none\;" target="_blank">Click here</a>&nbsp\;to purchase tickets.</p>\n
LOCATION:Wollersheim Winery 7876 Hwy 188 Prairie du Sac\, Wisconsin 53578
UID:e.1184.14654
SEQUENCE:3
DTSTAMP:20260424T161415Z
URL:http://members.saukprairie.com/events/details/rye-whiskey-pre-release-14654
END:VEVENT

END:VCALENDAR
