BEGIN:VCALENDAR
VERSION:2.0
PRODID:-//ChamberMaster//Event Calendar 2.0//EN
METHOD:PUBLISH
X-PUBLISHED-TTL:P3D
REFRESH-INTERVAL:P3D
CALSCALE:GREGORIAN
BEGIN:VEVENT
DTSTART:20180217T160000Z
DTEND:20180217T230000Z
X-MICROSOFT-CDO-ALLDAYEVENT:FALSE
SUMMARY:Rye Whiskey Release
DESCRIPTION:Our long awaited Rye Whiskey release!\n\nVisit the distillery anytime between 10am -5pm for a debut taste of the first in a series of straight whiskeys that have been distilled and aged onsite. The rye whiskey is made with locally-grown grains and aged over two years in American oak barrels.\n\nThroughout the day talk with Distiller Tom\, along with our local grain growers\, who will be in our Still House to answer any questions you may have. A tasting of other aged spirits will be available\, along with a special edition craft cocktail menu featuring the Rye Whiskey. Enjoy music by local singer Maria Pape Thompson accompanied by piano player Joe. If you are a Spirits Society member\, be sure to have your card with you to receive points with any purchases.
X-ALT-DESC;FMTTYPE=text/html:<p style="box-sizing: border-box\; margin: 0px\; padding: 0px 0px 1em\; border: 0px\; outline: 0px\; background: 0px 0px rgb(248\, 241\, 220)\; font-size: 16px\; vertical-align: baseline\; text-size-adjust: 100%\; color: rgb(102\, 102\, 102)\; font-family: Lora\, Georgia\, &quot\;Times New Roman&quot\;\, serif\;">Our long awaited Rye Whiskey release!</p>\n\n<p style="box-sizing: border-box\; margin: 0px\; padding: 0px 0px 1em\; border: 0px\; outline: 0px\; background: 0px 0px rgb(248\, 241\, 220)\; font-size: 16px\; vertical-align: baseline\; text-size-adjust: 100%\; color: rgb(102\, 102\, 102)\; font-family: Lora\, Georgia\, &quot\;Times New Roman&quot\;\, serif\;">Visit the distillery anytime between 10am -5pm for a debut taste of the first in a series of straight whiskeys that have been distilled and aged onsite. The rye whiskey is made with locally-grown grains and aged over two years in American oak barrels.</p>\n\n<p style="box-sizing: border-box\; margin: 0px\; padding: 0px\; border: 0px\; outline: 0px\; background: 0px 0px rgb(248\, 241\, 220)\; font-size: 16px\; vertical-align: baseline\; text-size-adjust: 100%\; color: rgb(102\, 102\, 102)\; font-family: Lora\, Georgia\, &quot\;Times New Roman&quot\;\, serif\;">Throughout the day talk with Distiller Tom\, along with our local grain growers\, who will be in our Still House to answer any questions you may have. A tasting of other aged spirits will be available\, along with a special edition craft cocktail menu featuring the Rye Whiskey. Enjoy music by local singer Maria Pape Thompson accompanied by piano player Joe. If you are a Spirits Society member\, be sure to have your card with you to receive points with any purchases.</p>\n
LOCATION:Wollersheim Winery 7876 Hwy 188 Prairie du Sac\, Wisconsin 53578
UID:e.1184.14659
SEQUENCE:3
DTSTAMP:20260424T161359Z
URL:http://members.saukprairie.com/events/details/rye-whiskey-release-14659
END:VEVENT

END:VCALENDAR
