BEGIN:VCALENDAR
VERSION:2.0
PRODID:-//ChamberMaster//Event Calendar 2.0//EN
METHOD:PUBLISH
X-PUBLISHED-TTL:P3D
REFRESH-INTERVAL:P3D
CALSCALE:GREGORIAN
BEGIN:VEVENT
DTSTART:20161118T003000Z
DTEND:20161118T023000Z
X-MICROSOFT-CDO-ALLDAYEVENT:FALSE
SUMMARY:S.P. Conservation Alliance Program
DESCRIPTION:Conserving the Apple Trees of Badger: Update and Next steps\n\n\n\nDr. Curt Meine\, Senior Fellow\, Aldo Leopold Foundation\, and founding member of the Sauk Prairie Conservation Alliance.\n\n\n\nMore than 175 apple tree have been located on the lands of the former Badger Army Ammunition Plant\, many of them predating the construction of the plant in 1942. Curt will provide an update on what we have learned about these trees and discuss next steps in working with the Badger land owners to conserve them.
X-ALT-DESC;FMTTYPE=text/html:Conserving the Apple Trees of Badger: Update and Next steps<br />\n<br />\nDr. Curt Meine\, Senior Fellow\, Aldo Leopold Foundation\, and founding member of the Sauk Prairie Conservation Alliance.<br />\n<br />\nMore than 175 apple tree have been located&nbsp\;on the lands of the former Badger Army Ammunition Plant\, many of them predating the construction of the plant in 1942. Curt will provide an update on what we have learned about these trees and discuss next steps in working with the Badger land owners to conserve them.
LOCATION:Ruth Culver Community Library 540 Water Street Prairie du Sac\, WI 53578
UID:e.1184.9448
SEQUENCE:3
DTSTAMP:20260425T160007Z
URL:http://members.saukprairie.com/events/details/s-p-conservation-alliance-program-9448
END:VEVENT

END:VCALENDAR
