BEGIN:VCALENDAR
VERSION:2.0
PRODID:-//ChamberMaster//Event Calendar 2.0//EN
METHOD:PUBLISH
X-PUBLISHED-TTL:P3D
REFRESH-INTERVAL:P3D
CALSCALE:GREGORIAN
BEGIN:VEVENT
DTSTART;VALUE=DATE:20210609
DTEND;VALUE=DATE:20210610
TRANSP:TRANSPARENT
X-MICROSOFT-CDO-ALLDAYEVENT:TRUE
SUMMARY:Sacred Earth Pollinator Field Day
DESCRIPTION:Join us for an opportunity to learn about the unique environmental\, cultural\, and geological history of Sacred Earth. Randy Poelma will guide us through the vast restoration efforts that are taking place to transition the land back to prairie and crucial pollinator habitat.
X-ALT-DESC;FMTTYPE=text/html:Join us for an opportunity to learn about the unique environmental\, cultural\, and geological history of Sacred Earth. Randy Poelma will guide us through the vast restoration efforts that are taking place to transition the land back to prairie and crucial pollinator habitat.
LOCATION:Sacred Earth (meet at the Badger Army Ammunition Museum Parking lot\, S7560 US HWY 12\, North Freedom)
UID:e.1184.26638
SEQUENCE:3
DTSTAMP:20260422T051241Z
URL:http://members.saukprairie.com/events/details/sacred-earth-pollinator-field-day-26638
END:VEVENT

END:VCALENDAR
