BEGIN:VCALENDAR
VERSION:2.0
PRODID:-//ChamberMaster//Event Calendar 2.0//EN
METHOD:PUBLISH
X-PUBLISHED-TTL:P3D
REFRESH-INTERVAL:P3D
CALSCALE:GREGORIAN
BEGIN:VEVENT
DTSTART:20180724T140000Z
DTEND:20180724T160000Z
X-MICROSOFT-CDO-ALLDAYEVENT:FALSE
SUMMARY:Safe Home/Healthy Home for Seniors
DESCRIPTION:Make your home environment safe with special attention to falls prevention\, fire safety\, and environmental health.  Featuring a do-it-yourself low cost/no cost solutions for areas of concern.  Many seniors each year have accidents caused by an unsafe environment.  Come check out this FREE program.
X-ALT-DESC;FMTTYPE=text/html:<span style="font-size:14px"><span style="font-family:arial\,helvetica\,sans-serif">Make your home environment safe with special attention to falls prevention\, fire safety\, and environmental health.&nbsp\; Featuring a do-it-yourself low cost/no cost solutions for areas of concern.&nbsp\; Many seniors each year have accidents caused by an unsafe environment.&nbsp\; Come check out this FREE program.&nbsp\;&nbsp\;</span></span>
LOCATION:Community Center 730 Monroe St. Sauk City\, WI 53583
UID:e.1184.20458
SEQUENCE:3
DTSTAMP:20260424T100902Z
URL:http://members.saukprairie.com/events/details/safe-home-healthy-home-for-seniors-20458
END:VEVENT

END:VCALENDAR
