BEGIN:VCALENDAR
VERSION:2.0
PRODID:-//ChamberMaster//Event Calendar 2.0//EN
METHOD:PUBLISH
X-PUBLISHED-TTL:P3D
REFRESH-INTERVAL:P3D
CALSCALE:GREGORIAN
BEGIN:VEVENT
DTSTART:20221121T213000Z
DTEND:20221121T223000Z
X-MICROSOFT-CDO-ALLDAYEVENT:FALSE
SUMMARY:Safety Pin Turkeys
DESCRIPTION:Learn how to make tiny art using safety pins and seed beads. Create a Thanksgiving turkey and some of your favorite characters for a holiday keepsake. Recommended for kids ages 8 and up. Registration is required. Call or visit the library to sign up today!
X-ALT-DESC;FMTTYPE=text/html:Learn how to make tiny art using safety pins and seed beads. Create a Thanksgiving turkey and some of your favorite characters for a holiday keepsake. Recommended for kids ages 8 and up. Registration is required. Call or visit the library to sign up today!
LOCATION:615 Phillips Blvd. Sauk City\, WI 53583
UID:e.1184.28772
SEQUENCE:3
DTSTAMP:20260421T021045Z
URL:http://members.saukprairie.com/events/details/safety-pin-turkeys-28772
END:VEVENT

END:VCALENDAR
