BEGIN:VCALENDAR
VERSION:2.0
PRODID:-//ChamberMaster//Event Calendar 2.0//EN
METHOD:PUBLISH
X-PUBLISHED-TTL:P3D
REFRESH-INTERVAL:P3D
CALSCALE:GREGORIAN
BEGIN:VEVENT
DTSTART:20190608T140000Z
DTEND:20190610T010000Z
X-MICROSOFT-CDO-ALLDAYEVENT:FALSE
SUMMARY:Saint Luke's Sommerfest
DESCRIPTION:Grab Your Lederhosen or Dirndl!  Bring the Family and Experience our Bavarian Festival!\n\n\n\nSaturday\, June 8th:  Boys Baseball Tournament\, Adult Volleyball Tournament\, Signs by Caitlin Paint Party\, Kids' Kickball Tournament.\n\n\n\nSunday\, June 9th:  Mass at 10 AM with Polka Trio\, Bavarian Bakery\, Euchre Tournament\, Chicken BBQ\, Haven's Mobile Petting Farm\, Kids' Games\, Adult Games\, Truly Remarkable Loon\, Bingo\, Bean Bag Tournament\, Plain A's Home Talent Baseball\, Pie Auction\, Raffle Drawing at 6:30 PM.\n\n\n\nBiergarten\, Brat\, Burger and Concession Stands Open Daily
X-ALT-DESC;FMTTYPE=text/html:Grab Your Lederhosen or Dirndl!&nbsp\; Bring the Family and Experience our Bavarian Festival!<br />\n<br />\nSaturday\, June 8th:&nbsp\; Boys Baseball Tournament\, Adult Volleyball Tournament\, Signs by Caitlin Paint Party\, Kids&#39\; Kickball Tournament.<br />\n<br />\nSunday\, June 9th:&nbsp\; Mass at 10 AM with Polka Trio\, Bavarian Bakery\, Euchre Tournament\, Chicken BBQ\, Haven&#39\;s Mobile Petting Farm\, Kids&#39\; Games\, Adult Games\, Truly Remarkable Loon\, Bingo\, Bean Bag Tournament\, Plain A&#39\;s Home Talent Baseball\, Pie Auction\, Raffle Drawing at 6:30 PM.<br />\n<br />\nBiergarten\, Brat\, Burger and Concession Stands Open Daily<br />\n<br />\n&nbsp\;
LOCATION:St. Luke Catholic Church\, 1240 Nachreiner Avenue\, Plain\, WI Plain Village Park\, Plain\, WI
UID:e.1184.22339
SEQUENCE:3
DTSTAMP:20260423T171735Z
URL:http://members.saukprairie.com/events/details/saint-luke-s-sommerfest-22339
END:VEVENT

END:VCALENDAR
