BEGIN:VCALENDAR
VERSION:2.0
PRODID:-//ChamberMaster//Event Calendar 2.0//EN
METHOD:PUBLISH
X-PUBLISHED-TTL:P3D
REFRESH-INTERVAL:P3D
CALSCALE:GREGORIAN
BEGIN:VEVENT
DTSTART:20210912T140000Z
DTEND:20210913T010000Z
X-MICROSOFT-CDO-ALLDAYEVENT:FALSE
SUMMARY:Saint Luke's Sommerfest
DESCRIPTION:Gather on the church grounds and celebrate St. Luke's parish with food\, fun and friendship!
X-ALT-DESC;FMTTYPE=text/html:Gather on the church grounds and celebrate St. Luke&#39\;s parish with food\, fun and friendship!
LOCATION:St. Luke Catholic Church\, 1240 Nachreiner Avenue\, Plain\, WI Plain Village Park\, Plain\, WI
UID:e.1184.26862
SEQUENCE:3
DTSTAMP:20260421T230952Z
URL:http://members.saukprairie.com/events/details/saint-luke-s-sommerfest-26862
END:VEVENT

END:VCALENDAR
