BEGIN:VCALENDAR
VERSION:2.0
PRODID:-//ChamberMaster//Event Calendar 2.0//EN
METHOD:PUBLISH
X-PUBLISHED-TTL:P3D
REFRESH-INTERVAL:P3D
CALSCALE:GREGORIAN
BEGIN:VEVENT
DTSTART;VALUE=DATE:20240316
DTEND;VALUE=DATE:20240317
TRANSP:TRANSPARENT
X-MICROSOFT-CDO-ALLDAYEVENT:TRUE
SUMMARY:Saint Patrick's Saturday @ Ferry X-ing Bar & Grill
DESCRIPTION:Saint Patrick's Saturday: Corned Beer\, Cabbage & Grasshoppers\n\nSaturday\, March 16th @ 11 am\n\n\n\nMama Jodie is whipping together her Corned Beef and Cabbage for us all to enjoy. For after dinner\, we will have our delicious grasshoppers! Prices have not yet been determined.
X-ALT-DESC;FMTTYPE=text/html:Saint Patrick&#39\;s Saturday: Corned Beer\, Cabbage &amp\; Grasshoppers<br />\nSaturday\, March 16th @ 11 am<br />\n<br />\n<span font-size:="" segoe="" style="color: rgb(5\, 5\, 5)\; font-family: " ui="">Mama Jodie is whipping together her Corned Beef and Cabbage for us all to enjoy. For after dinner\, we will have our delicious grasshoppers! Prices have not yet been determined.</span>
LOCATION:Ferry X-ing Bar & Grill
UID:e.1184.31544
SEQUENCE:3
DTSTAMP:20260419T232042Z
URL:http://members.saukprairie.com/events/details/saint-patrick-s-saturday-ferry-x-ing-bar-grill-31544
END:VEVENT

END:VCALENDAR
