BEGIN:VCALENDAR
VERSION:2.0
PRODID:-//ChamberMaster//Event Calendar 2.0//EN
METHOD:PUBLISH
X-PUBLISHED-TTL:P3D
REFRESH-INTERVAL:P3D
CALSCALE:GREGORIAN
BEGIN:VEVENT
DTSTART:20200222T151500Z
DTEND:20200222T170000Z
X-MICROSOFT-CDO-ALLDAYEVENT:FALSE
SUMMARY:Salad in a Jar Healthy Living Event
DESCRIPTION:Please join us as we prepare jar salads for our weekly lunches and share inspiring stories of healthy living. \n\n\n\nPlease bring 3 WIDE mouth quart jars OR 5 WIDE mouth pint jars.\n\n\n\nDressings will be provided!\n\n\n\nPlease list in the comments what item(s) from the list you would be willing to bring to create our salads.\n\n\n\n*NOTE* Please bring about a gallon (in a bag or container) of the ingredients. The aim is to have enough for every guest to fill their jars!\n\n	Mixed Greens\n	Radish slices \n	Spinach\n	Avocado chunks\n	Romaine\n	Pepper slices\n	Kale\n	Craisins\n	Beans\n	Pumpkin seeds \n	Cut up cucumbers\n	Quinoa (cooled)\n	Cherry tomatoes\n	Rice (cooled)\n	Cut up celery\n	Cut up beets\n	Corn. Broccoli \n	Black olives\n	Cauliflower
X-ALT-DESC;FMTTYPE=text/html:<span style="color: rgb(29\, 33\, 41)\; font-family: Helvetica\, Arial\, sans-serif\; font-size: 14px\; white-space: pre-wrap\;">Please join us as we prepare jar salads for our weekly lunches and share inspiring stories of healthy living. </span><br style="color: rgb(29\, 33\, 41)\; font-family: Helvetica\, Arial\, sans-serif\; font-size: 14px\; white-space: pre-wrap\;" />\n<br style="color: rgb(29\, 33\, 41)\; font-family: Helvetica\, Arial\, sans-serif\; font-size: 14px\; white-space: pre-wrap\;" />\n<span style="color: rgb(29\, 33\, 41)\; font-family: Helvetica\, Arial\, sans-serif\; font-size: 14px\; white-space: pre-wrap\;">Please bring 3 WIDE mouth quart jars OR 5 WIDE mouth pint jars.</span><br style="color: rgb(29\, 33\, 41)\; font-family: Helvetica\, Arial\, sans-serif\; font-size: 14px\; white-space: pre-wrap\;" />\n<br style="color: rgb(29\, 33\, 41)\; font-family: Helvetica\, Arial\, sans-serif\; font-size: 14px\; white-space: pre-wrap\;" />\n<span style="color: rgb(29\, 33\, 41)\; font-family: Helvetica\, Arial\, sans-serif\; font-size: 14px\; white-space: pre-wrap\;">Dressings will be provided!</span><br style="color: rgb(29\, 33\, 41)\; font-family: Helvetica\, Arial\, sans-serif\; font-size: 14px\; white-space: pre-wrap\;" />\n<br style="color: rgb(29\, 33\, 41)\; font-family: Helvetica\, Arial\, sans-serif\; font-size: 14px\; white-space: pre-wrap\;" />\n<span style="color: rgb(29\, 33\, 41)\; font-family: Helvetica\, Arial\, sans-serif\; font-size: 14px\; white-space: pre-wrap\;">Please list in the comments what item(s) from the list you would be willing to bring to create our salads.</span><br style="color: rgb(29\, 33\, 41)\; font-family: Helvetica\, Arial\, sans-serif\; font-size: 14px\; white-space: pre-wrap\;" />\n<br style="color: rgb(29\, 33\, 41)\; font-family: Helvetica\, Arial\, sans-serif\; font-size: 14px\; white-space: pre-wrap\;" />\n<span style="color: rgb(29\, 33\, 41)\; font-family: Helvetica\, Arial\, sans-serif\; font-size: 14px\; white-space: pre-wrap\;">*NOTE* Please bring about a gallon (in a bag or container) of the ingredients. The aim is to have enough for every guest to fill their jars!</span>\n<ul>\n	<li><span style="color: rgb(29\, 33\, 41)\; font-family: Helvetica\, Arial\, sans-serif\; font-size: 14px\; white-space: pre-wrap\;">Mixed Greens</span></li>\n	<li><span style="color: rgb(29\, 33\, 41)\; font-family: Helvetica\, Arial\, sans-serif\; font-size: 14px\; white-space: pre-wrap\;">Radish slices </span></li>\n	<li><span style="color: rgb(29\, 33\, 41)\; font-family: Helvetica\, Arial\, sans-serif\; font-size: 14px\; white-space: pre-wrap\;">Spinach</span></li>\n	<li><span style="color: rgb(29\, 33\, 41)\; font-family: Helvetica\, Arial\, sans-serif\; font-size: 14px\; white-space: pre-wrap\;">Avocado chunks</span></li>\n	<li><span style="color: rgb(29\, 33\, 41)\; font-family: Helvetica\, Arial\, sans-serif\; font-size: 14px\; white-space: pre-wrap\;">Romaine</span></li>\n	<li><span style="color: rgb(29\, 33\, 41)\; font-family: Helvetica\, Arial\, sans-serif\; font-size: 14px\; white-space: pre-wrap\;">Pepper slices</span></li>\n	<li><span style="color: rgb(29\, 33\, 41)\; font-family: Helvetica\, Arial\, sans-serif\; font-size: 14px\; white-space: pre-wrap\;">Kale</span></li>\n	<li><span style="color: rgb(29\, 33\, 41)\; font-family: Helvetica\, Arial\, sans-serif\; font-size: 14px\; white-space: pre-wrap\;">Craisins</span></li>\n	<li><span style="color: rgb(29\, 33\, 41)\; font-family: Helvetica\, Arial\, sans-serif\; font-size: 14px\; white-space: pre-wrap\;">Beans</span></li>\n	<li><span style="color: rgb(29\, 33\, 41)\; font-family: Helvetica\, Arial\, sans-serif\; font-size: 14px\; white-space: pre-wrap\;">Pumpkin seeds </span></li>\n	<li><span style="color: rgb(29\, 33\, 41)\; font-family: Helvetica\, Arial\, sans-serif\; font-size: 14px\; white-space: pre-wrap\;">Cut up cucumbers</span></li>\n	<li><span style="color: rgb(29\, 33\, 41)\; font-family: Helvetica\, Arial\, sans-serif\; font-size: 14px\; white-space: pre-wrap\;">Quinoa (cooled)</span></li>\n	<li><span style="color: rgb(29\, 33\, 41)\; font-family: Helvetica\, Arial\, sans-serif\; font-size: 14px\; white-space: pre-wrap\;">Cherry tomatoes</span></li>\n	<li><span style="color: rgb(29\, 33\, 41)\; font-family: Helvetica\, Arial\, sans-serif\; font-size: 14px\; white-space: pre-wrap\;">Rice (cooled)</span></li>\n	<li><span style="color: rgb(29\, 33\, 41)\; font-family: Helvetica\, Arial\, sans-serif\; font-size: 14px\; white-space: pre-wrap\;">Cut up celery</span></li>\n	<li><span style="color: rgb(29\, 33\, 41)\; font-family: Helvetica\, Arial\, sans-serif\; font-size: 14px\; white-space: pre-wrap\;">Cut up beets</span></li>\n	<li><span style="color: rgb(29\, 33\, 41)\; font-family: Helvetica\, Arial\, sans-serif\; font-size: 14px\; white-space: pre-wrap\;">Corn. Broccoli </span></li>\n	<li><span style="color: rgb(29\, 33\, 41)\; font-family: Helvetica\, Arial\, sans-serif\; font-size: 14px\; white-space: pre-wrap\;">Black olives</span></li>\n	<li><span style="color: rgb(29\, 33\, 41)\; font-family: Helvetica\, Arial\, sans-serif\; font-size: 14px\; white-space: pre-wrap\;">Cauliflower </span></li>\n</ul>\n
LOCATION:Zenfully Yours Spa 1111 Dallas St.\, Suite B Sauk City
UID:e.1184.24034
SEQUENCE:3
DTSTAMP:20260423T041503Z
URL:http://members.saukprairie.com/events/details/salad-in-a-jar-healthy-living-event-24034
END:VEVENT

END:VCALENDAR
