BEGIN:VCALENDAR
VERSION:2.0
PRODID:-//ChamberMaster//Event Calendar 2.0//EN
METHOD:PUBLISH
X-PUBLISHED-TTL:P3D
REFRESH-INTERVAL:P3D
CALSCALE:GREGORIAN
BEGIN:VEVENT
DTSTART:20160920T230000Z
DTEND:20160921T000000Z
X-MICROSOFT-CDO-ALLDAYEVENT:FALSE
SUMMARY:Salad in a Jar Workshop
DESCRIPTION:Are you trying to eat healthier\, but have found meal prep to be a pain?  Bring yourself\, a few friends\, and 1-2 mason jars to this salad in a jar workshop to learn tips & tricks to make meal prep FUN.  I will demonstrate how to properly build a layered salad in a jar so that no ingredients end up soggy (yuck!).  Each participant will be able to build two salads to take home\, as well as receive a FREE preparation guide.
X-ALT-DESC;FMTTYPE=text/html:Are you trying to eat healthier\, but have found meal prep to be a pain? &nbsp\;Bring yourself\, a few friends\, and 1-2 mason jars to this salad in a jar workshop to learn tips &amp\; tricks to make meal prep FUN. &nbsp\;I will demonstrate how to properly build a layered salad in a jar so that no ingredients end up soggy (yuck!). &nbsp\;Each participant will be able to build two salads to take home\, as well as receive a FREE preparation guide. &nbsp\;
LOCATION:Chamber of Commerce - 109 Phillips Blvd\, Sauk City
UID:e.1184.9300
SEQUENCE:3
DTSTAMP:20260425T192530Z
URL:http://members.saukprairie.com/events/details/salad-in-a-jar-workshop-9300
END:VEVENT

END:VCALENDAR
