BEGIN:VCALENDAR
VERSION:2.0
PRODID:-//ChamberMaster//Event Calendar 2.0//EN
METHOD:PUBLISH
X-PUBLISHED-TTL:P3D
REFRESH-INTERVAL:P3D
CALSCALE:GREGORIAN
BEGIN:VEVENT
DTSTART:20190428T030000Z
DTEND:20190428T040000Z
X-MICROSOFT-CDO-ALLDAYEVENT:FALSE
SUMMARY:Salt Room Meditation
DESCRIPTION:Start your morning with an hour of guided meditation while receiving the benefits of halotherapy in the salt room.\n\n\n\nWith this class you will be provided a meditation journal to help you find your place of inner peace.\n\n\n\n$40.00 per person\n\nLimited Seating Available\n\n\n\nBook Now\n\n**Click On Book Now & You Will Be Directed To The Scheduling Site **On The Scheduling Site Click On Classes To Sign Up
X-ALT-DESC;FMTTYPE=text/html:<span style="color: rgb(29\, 33\, 41)\; font-family: Helvetica\, Arial\, sans-serif\; font-size: 14px\; white-space: pre-wrap\;">Start your morning with an hour of guided meditation while receiving the benefits of halotherapy in the salt room.</span><br style="color: rgb(29\, 33\, 41)\; font-family: Helvetica\, Arial\, sans-serif\; font-size: 14px\; white-space: pre-wrap\;" />\n<br style="color: rgb(29\, 33\, 41)\; font-family: Helvetica\, Arial\, sans-serif\; font-size: 14px\; white-space: pre-wrap\;" />\n<span style="color: rgb(29\, 33\, 41)\; font-family: Helvetica\, Arial\, sans-serif\; font-size: 14px\; white-space: pre-wrap\;">With this class you will be provided a meditation journal to help you find your place of inner peace.</span><br style="color: rgb(29\, 33\, 41)\; font-family: Helvetica\, Arial\, sans-serif\; font-size: 14px\; white-space: pre-wrap\;" />\n<br style="color: rgb(29\, 33\, 41)\; font-family: Helvetica\, Arial\, sans-serif\; font-size: 14px\; white-space: pre-wrap\;" />\n<span style="color: rgb(29\, 33\, 41)\; font-family: Helvetica\, Arial\, sans-serif\; font-size: 14px\; white-space: pre-wrap\;">$40.00 per person</span><br style="color: rgb(29\, 33\, 41)\; font-family: Helvetica\, Arial\, sans-serif\; font-size: 14px\; white-space: pre-wrap\;" />\n<span style="color: rgb(29\, 33\, 41)\; font-family: Helvetica\, Arial\, sans-serif\; font-size: 14px\; white-space: pre-wrap\;">Limited Seating Available</span><br style="color: rgb(29\, 33\, 41)\; font-family: Helvetica\, Arial\, sans-serif\; font-size: 14px\; white-space: pre-wrap\;" />\n<br />\n<a href="https://clients.mindbodyonline.com/ASP/main_appts.asp?studioid=598465&amp\;tg=&amp\;vt=&amp\;lvl=&amp\;stype=-9&amp\;view=&amp\;trn=0&amp\;page=&amp\;catid=&amp\;prodid=&amp\;date=4%2f24%2f2019&amp\;classid=0&amp\;prodGroupId=&amp\;sSU=&amp\;optForwardingLink=&amp\;qParam=&amp\;justloggedin=&amp\;nLgIn=&amp\;pMode=0&amp\;loc=1"><strong>Book Now</strong></a><br style="color: rgb(29\, 33\, 41)\; font-family: Helvetica\, Arial\, sans-serif\; font-size: 14px\; white-space: pre-wrap\;" />\n<span style="color: rgb(29\, 33\, 41)\; font-family: Helvetica\, Arial\, sans-serif\; font-size: 14px\; white-space: pre-wrap\;">**Click On Book Now &amp\; You Will Be Directed To The Scheduling Site **On The Scheduling Site Click On Classes To Sign Up</span>
LOCATION:719 Industry Rd Sauk City
UID:e.1184.22241
SEQUENCE:3
DTSTAMP:20260423T185459Z
URL:http://members.saukprairie.com/events/details/salt-room-meditation-22241
END:VEVENT

END:VCALENDAR
