BEGIN:VCALENDAR
VERSION:2.0
PRODID:-//ChamberMaster//Event Calendar 2.0//EN
METHOD:PUBLISH
X-PUBLISHED-TTL:P3D
REFRESH-INTERVAL:P3D
CALSCALE:GREGORIAN
BEGIN:VEVENT
DTSTART;VALUE=DATE:20241209
DTEND;VALUE=DATE:20241224
TRANSP:TRANSPARENT
X-MICROSOFT-CDO-ALLDAYEVENT:TRUE
SUMMARY:Salvation Army Bell Ringing
DESCRIPTION:Salvation Army Bell Ringers will be at Ace Sauk Prairie\, Hansen's Market and Piggly Wiggly every day December 9-23 excluding Sundays.\n\n\n\nDecember 14 they will be at Bridges 9a-2p.\n\n\n\nIf you are interested in registering to be a Bell Ringer click here.
X-ALT-DESC;FMTTYPE=text/html:Salvation Army Bell Ringers will be at Ace Sauk Prairie\, Hansen&#39\;s Market and Piggly Wiggly every day December 9-23 excluding Sundays.<br />\n<br />\nDecember 14 they will be at Bridges 9a-2p.<br />\n<br />\nIf you are interested in registering to be a Bell Ringer <u><strong><a href="http://www.registertoring.com">click here.</a></strong></u>
LOCATION:Sauk Prairie
UID:e.1184.34585
SEQUENCE:3
DTSTAMP:20260419T115007Z
URL:http://members.saukprairie.com/events/details/salvation-army-bell-ringing-34585
END:VEVENT

END:VCALENDAR
