BEGIN:VCALENDAR
VERSION:2.0
PRODID:-//ChamberMaster//Event Calendar 2.0//EN
METHOD:PUBLISH
X-PUBLISHED-TTL:P3D
REFRESH-INTERVAL:P3D
CALSCALE:GREGORIAN
BEGIN:VEVENT
DTSTART:20210626T233000Z
DTEND:20210627T040000Z
X-MICROSOFT-CDO-ALLDAYEVENT:FALSE
SUMMARY:Sam Ness Album Release Show\, "The Cabin"
DESCRIPTION:Sam Ness spent the coldest days of winter looking out at the snow through the panes of a quiet cabin. After almost six years of never staying in one place for more than a week or two at a time\, it was time for a dormant phase. A phase of reflection\, contemplation\, and processing what the road has meant to him. Join us June 26th for the release of Ness's new album\, "The Cabin".\n\nTickets are $15\, please RSVP directly to Sam Ness or The Vines.\n\n6:30pm - Doors open\n\n7pm - Gorman Hayes & Robert Molina\n\n7:30pm - Hemma\n\n8:15pm - Sam Ness\n\n \n\nAttendees are encouraged to stay the night and camp out after the show. No drinks will be provided\, so attendees are also encouraged to BYOB.
X-ALT-DESC;FMTTYPE=text/html:<div class="kvgmc6g5 cxmmr5t8 oygrvhab hcukyx3x c1et5uql" style="overflow-wrap: break-word\; margin: 0px\; font-family: &quot\;Segoe UI Historic&quot\;\, &quot\;Segoe UI&quot\;\, Helvetica\, Arial\, sans-serif\; color: rgb(5\, 5\, 5)\; font-size: 15px\;">Sam Ness spent the coldest days of winter looking out at the snow through the panes of a quiet cabin. After almost six years of never staying in one place for more than a week or two at a time\, it was time for a dormant phase. A phase of reflection\, contemplation\, and processing what the road has meant to him. Join us June 26th for the release of Ness&#39\;s new album\, &quot\;The Cabin&quot\;.</div>\n\n<div class="o9v6fnle cxmmr5t8 oygrvhab hcukyx3x c1et5uql" style="overflow-wrap: break-word\; margin: 0.5em 0px 0px\; font-family: &quot\;Segoe UI Historic&quot\;\, &quot\;Segoe UI&quot\;\, Helvetica\, Arial\, sans-serif\; color: rgb(5\, 5\, 5)\; font-size: 15px\;">Tickets are $15\, please RSVP directly to Sam Ness or The Vines.</div>\n\n<div class="o9v6fnle cxmmr5t8 oygrvhab hcukyx3x c1et5uql" style="overflow-wrap: break-word\; margin: 0.5em 0px 0px\; font-family: &quot\;Segoe UI Historic&quot\;\, &quot\;Segoe UI&quot\;\, Helvetica\, Arial\, sans-serif\; color: rgb(5\, 5\, 5)\; font-size: 15px\;">6:30pm - Doors open<br />\n7pm - Gorman Hayes &amp\; Robert Molina<br />\n7:30pm - Hemma<br />\n8:15pm - Sam Ness</div>\n\n<div class="o9v6fnle cxmmr5t8 oygrvhab hcukyx3x c1et5uql" style="overflow-wrap: break-word\; margin: 0.5em 0px 0px\; font-family: &quot\;Segoe UI Historic&quot\;\, &quot\;Segoe UI&quot\;\, Helvetica\, Arial\, sans-serif\; color: rgb(5\, 5\, 5)\; font-size: 15px\;">&nbsp\;</div>\n\n<div class="o9v6fnle cxmmr5t8 oygrvhab hcukyx3x c1et5uql" style="overflow-wrap: break-word\; margin: 0.5em 0px 0px\; font-family: &quot\;Segoe UI Historic&quot\;\, &quot\;Segoe UI&quot\;\, Helvetica\, Arial\, sans-serif\; color: rgb(5\, 5\, 5)\; font-size: 15px\;">Attendees are encouraged to stay the night and camp out after the show. No drinks will be provided\, so attendees are also encouraged to BYOB.</div>\n
LOCATION:The Vines
UID:e.1184.26678
SEQUENCE:3
DTSTAMP:20260422T034808Z
URL:http://members.saukprairie.com/events/details/sam-ness-album-release-show-the-cabin-26678
END:VEVENT

END:VCALENDAR
