BEGIN:VCALENDAR
VERSION:2.0
PRODID:-//ChamberMaster//Event Calendar 2.0//EN
METHOD:PUBLISH
X-PUBLISHED-TTL:P3D
REFRESH-INTERVAL:P3D
CALSCALE:GREGORIAN
BEGIN:VEVENT
DTSTART:20190906T000000Z
DTEND:20190906T020000Z
X-MICROSOFT-CDO-ALLDAYEVENT:FALSE
SUMMARY:Sam Ness and the Stolen Sea
DESCRIPTION:"Music is a release for me when life gets hard. It's a friend I can always count on. It's a connection to so many amazing people around the world. It's a second language\, a hobby\, a business\, a friend\, an enemy\, sometimes it feels like the air that I breathe. I don't know what the moment was I realized it\, but I'll never live without being close to music. It's just as ingrained in me as my own heartbeat." \n\nSam Ness \n\n\n\nNate Meng and the Stolen Sea Nate Meng and The Stolen Sea are a band. They are individuals. They are love and anger. They are the thrill of a chaotic universe. Their songs are about us.\n\ncategories
X-ALT-DESC;FMTTYPE=text/html:<span style="color: rgb(29\, 33\, 41)\; font-family: Helvetica\, Arial\, sans-serif\; font-size: 14px\; white-space: pre-wrap\;">&ldquo\;Music is a release for me when life gets hard. It&rsquo\;s a friend I can always count on. It&rsquo\;s a connection to so many amazing people around the world. It&rsquo\;s a second language\, a hobby\, a business\, a friend\, an enemy\, sometimes it feels like the air that I breathe. I don&rsquo\;t know what the moment was I realized it\, but I&rsquo\;ll never live without being close to music. It&rsquo\;s just as ingrained in me as my own heartbeat.&rdquo\; </span><br style="color: rgb(29\, 33\, 41)\; font-family: Helvetica\, Arial\, sans-serif\; font-size: 14px\; white-space: pre-wrap\;" />\n<span style="color: rgb(29\, 33\, 41)\; font-family: Helvetica\, Arial\, sans-serif\; font-size: 14px\; white-space: pre-wrap\;">Sam Ness </span><br />\n<br style="color: rgb(29\, 33\, 41)\; font-family: Helvetica\, Arial\, sans-serif\; font-size: 14px\; white-space: pre-wrap\;" />\n<span style="color: rgb(29\, 33\, 41)\; font-family: Helvetica\, Arial\, sans-serif\; font-size: 14px\; white-space: pre-wrap\;">Nate Meng and the Stolen Sea Nate Meng and The Stolen Sea are a band. They are individuals. They are love and anger. They are the thrill of a chaotic universe. Their songs are about us.</span><br style="color: rgb(29\, 33\, 41)\; font-family: Helvetica\, Arial\, sans-serif\; font-size: 14px\; white-space: pre-wrap\;" />\n<span style="color: rgb(29\, 33\, 41)\; font-family: Helvetica\, Arial\, sans-serif\; font-size: 14px\; white-space: pre-wrap\;">categories</span>
LOCATION:Vintage Brewing Co. 600 Water St. Sauk City
UID:e.1184.22732
SEQUENCE:3
DTSTAMP:20260423T113225Z
URL:http://members.saukprairie.com/events/details/sam-ness-and-the-stolen-sea-22732
END:VEVENT

END:VCALENDAR
