BEGIN:VCALENDAR
VERSION:2.0
PRODID:-//ChamberMaster//Event Calendar 2.0//EN
METHOD:PUBLISH
X-PUBLISHED-TTL:P3D
REFRESH-INTERVAL:P3D
CALSCALE:GREGORIAN
BEGIN:VEVENT
DTSTART:20240724T230000Z
DTEND:20240725T010000Z
X-MICROSOFT-CDO-ALLDAYEVENT:FALSE
SUMMARY:Sam Ness at Water Street Social Club
DESCRIPTION:Come listen to Sam Ness at Water Street Social Club\n\n\n\nSam Ness\, the soulful troubadour from Southern Wisconsin\, embodies craftsmanship with his sincere lyrics and captivating melodies. He weaves inspiration from life's rich tapestry to explore deeply personal narratives that transcend the bounds of genre. With 5 acclaimed albums including "Whispered on the Wind"\, "Lullabies & FaerieTales"\, and "The Cabin"\, he resonates with the audiences he performs for globally. Beyond the stage\, Sam is a beacon of positivity and resilience\, using his platform to spread messages of hope and healing. In a world inundated with noise\, Sam Ness remains a steadfast image of authenticity and artistic integrity. With each strum of his guitar and every heartfelt lyric\, he continues to leave an indelible mark on the hearts and souls of all who listen.
X-ALT-DESC;FMTTYPE=text/html:Come listen to Sam Ness at Water Street Social Club<br />\n<br />\nSam Ness\, the soulful troubadour from Southern Wisconsin\, embodies craftsmanship with his sincere lyrics and captivating melodies. He weaves inspiration from life&rsquo\;s rich tapestry to explore deeply personal narratives that transcend the bounds of genre. With 5 acclaimed albums including &ldquo\;Whispered on the Wind&rdquo\;\, &ldquo\;Lullabies &amp\; FaerieTales&rdquo\;\, and &ldquo\;The Cabin&rdquo\;\, he resonates with the audiences he performs for globally. Beyond the stage\, Sam is a beacon of positivity and resilience\, using his platform to spread messages of hope and healing. In a world inundated with noise\, Sam Ness remains a steadfast image of authenticity and artistic integrity. With each strum of his guitar and every heartfelt lyric\, he continues to leave an indelible mark on the hearts and souls of all who listen.
LOCATION:Water Street Social Club
UID:e.1184.32874
SEQUENCE:3
DTSTAMP:20260419T180432Z
URL:http://members.saukprairie.com/events/details/sam-ness-at-water-street-social-club-32874
END:VEVENT

END:VCALENDAR
