BEGIN:VCALENDAR
VERSION:2.0
PRODID:-//ChamberMaster//Event Calendar 2.0//EN
METHOD:PUBLISH
X-PUBLISHED-TTL:P3D
REFRESH-INTERVAL:P3D
CALSCALE:GREGORIAN
BEGIN:VEVENT
DTSTART:20230115T010000Z
DTEND:20230115T040000Z
X-MICROSOFT-CDO-ALLDAYEVENT:FALSE
SUMMARY:Sam Ness Going Away Party At Vintage Sauk Prairie
DESCRIPTION:Sam Ness is leaving for the winter! Come on out to celebrate his last show in the area until Spring!\n\nhttps://linktr.ee/samness\n\nMusic at 7pm\n\nFREE SHOW\n\nFrom theater performer\, to full-time busker and wanderer\, festivals and cafes\, Sam Ness has shared the stage with America\, Styx\, Night Ranger\, Chris Barron (Spin Doctors)\, and many others. Mixing Traditional Folk/Americana roots with a new-age Alternative Singer/Songwriter feel\, Sam Ness finds inspiration in the ancient cobblestone streets across the globe. Sometimes wild and dance oriented\, other moments raw\, emotional\, and punctuated by moments of silence\, Sam's show changes every night. His percussive playing paired with an assortment of special effects including a loop system\, have built a sound larger than most full bands. Sam has taken home a handful of Madison (Wisconsin) Area Music Awards including Male Vocalist of the Year (2019\, 2020\, 2021)\, Alternative Album of the Year (Whispered on the Wind 2018)\, Madison Area Breakthrough Artist Second Runner up (2017)\, Cover Song of the Year (Bonnie Raitt's I Can't Make You Love Me 2020)\, Unique Performer of the Year (2021).   Sam's new album\, City Lights and Smoke\, is a story of the road. It's the story of an introvert playing over a thousand shows across many countries\, traveling to explore not only external places but the internal self. It's sticking out your thumb in hope\, it's fumbling for a light switch in the dark. It's the story of looking back at one's self across the stage lights\, back alley puddles\, and rear view mirrors. It's repair shop coffee. It's City Lights and Smoke.
X-ALT-DESC;FMTTYPE=text/html:<div class="x11i5rnm xat24cr x1mh8g0r x1vvkbs xdj266r" style="margin: 0px\; overflow-wrap: break-word\; font-family: &quot\;Segoe UI Historic&quot\;\, &quot\;Segoe UI&quot\;\, Helvetica\, Arial\, sans-serif\; color: rgb(5\, 5\, 5)\; font-size: 15px\;">Sam Ness is leaving for the winter! Come on out to celebrate his last show in the area until Spring!</div>\n\n<div class="x11i5rnm xat24cr x1mh8g0r x1vvkbs xtlvy1s" style="margin: 0.5em 0px 0px\; overflow-wrap: break-word\; font-family: &quot\;Segoe UI Historic&quot\;\, &quot\;Segoe UI&quot\;\, Helvetica\, Arial\, sans-serif\; color: rgb(5\, 5\, 5)\; font-size: 15px\;"><a class="x1i10hfl xjbqb8w x6umtig x1b1mbwd xaqea5y xav7gou x9f619 x1ypdohk xt0psk2 xe8uvvx xdj266r x11i5rnm xat24cr x1mh8g0r xexx8yu x4uap5 x18d9i69 xkhd6sd x16tdsg8 x1hl2dhg xggy1nq x1a2a7pz xt0b8zv x1fey0fg" href="https://linktr.ee/samness?fbclid=IwAR2yUG_Yu2A-r4d2AllrNm3SxFYHOVhsmQQC1Emy9pBno3T1t8dRQId0xQA" rel="nofollow noopener" role="link" style="color: var(--blue-link)\; cursor: pointer\; text-decoration-line: none\; margin: 0px\; text-align: inherit\; padding: 0px\; outline: none\; border-width: 0px\; border-style: initial\; border-color: initial\; -webkit-tap-highlight-color: transparent\; box-sizing: border-box\; list-style: none\; touch-action: manipulation\; background-color: transparent\; display: inline\; font-family: inherit\;" tabindex="0" target="_blank"><span style="color:#0000FF\;">https://linktr.ee/samness</span></a></div>\n\n<div class="x11i5rnm xat24cr x1mh8g0r x1vvkbs xtlvy1s" style="margin: 0.5em 0px 0px\; overflow-wrap: break-word\; font-family: &quot\;Segoe UI Historic&quot\;\, &quot\;Segoe UI&quot\;\, Helvetica\, Arial\, sans-serif\; color: rgb(5\, 5\, 5)\; font-size: 15px\;">Music at 7pm<br />\nFREE SHOW</div>\n\n<div class="x11i5rnm xat24cr x1mh8g0r x1vvkbs xtlvy1s" style="margin: 0.5em 0px 0px\; overflow-wrap: break-word\; font-family: &quot\;Segoe UI Historic&quot\;\, &quot\;Segoe UI&quot\;\, Helvetica\, Arial\, sans-serif\; color: rgb(5\, 5\, 5)\; font-size: 15px\;">From theater performer\, to full-time busker and wanderer\, festivals and cafes\, Sam Ness has shared the stage with America\, Styx\, Night Ranger\, Chris Barron (Spin Doctors)\, and many others. Mixing Traditional Folk/Americana roots with a new-age Alternative Singer/Songwriter feel\, Sam Ness finds inspiration in the ancient cobblestone streets across the globe. Sometimes wild and dance oriented\, other moments raw\, emotional\, and punctuated by moments of silence\, Sam&rsquo\;s show changes every night. His percussive playing paired with an assortment of special effects including a loop system\, have built a sound larger than most full bands. Sam has taken home a handful of Madison (Wisconsin) Area Music Awards including Male Vocalist of the Year (2019\, 2020\, 2021)\, Alternative Album of the Year (Whispered on the Wind 2018)\, Madison Area Breakthrough Artist Second Runner up (2017)\, Cover Song of the Year (Bonnie Raitt&rsquo\;s I Can&rsquo\;t Make You Love Me 2020)\, Unique Performer of the Year (2021). &#8232\;&#8232\;Sam&rsquo\;s new album\, City Lights and Smoke\, is a story of the road. It&rsquo\;s the story of an introvert playing over a thousand shows across many countries\, traveling to explore not only external places but the internal self. It&rsquo\;s sticking out your thumb in hope\, it&rsquo\;s fumbling for a light switch in the dark. It&rsquo\;s the story of looking back at one&rsquo\;s self across the stage lights\, back alley puddles\, and rear view mirrors. It&rsquo\;s repair shop coffee. It&rsquo\;s City Lights and Smoke.</div>\n
LOCATION:Vintage Brewing Co. Sauk Prairie 600 Water Street Sauk City\, WI 53583
UID:e.1184.29848
SEQUENCE:3
DTSTAMP:20260420T232849Z
URL:http://members.saukprairie.com/events/details/sam-ness-going-away-party-at-vintage-sauk-prairie-29848
END:VEVENT

END:VCALENDAR
