BEGIN:VCALENDAR
VERSION:2.0
PRODID:-//ChamberMaster//Event Calendar 2.0//EN
METHOD:PUBLISH
X-PUBLISHED-TTL:P3D
REFRESH-INTERVAL:P3D
CALSCALE:GREGORIAN
BEGIN:VEVENT
DTSTART:20180629T004500Z
DTEND:20180629T030000Z
X-MICROSOFT-CDO-ALLDAYEVENT:FALSE
SUMMARY:Sam Ness with Michael Endres at Vintage Brewing Co. Sauk Prairie
DESCRIPTION:Michael Endres will be opening Sam's show! Another Up and Coming Sauk Prairie Phenom! \n\n\n\nSam Ness is taking the Madison music scene by storm. His rugged charm coupled with immense talent have made him a stellar act to watch" \n\n-On Wisconsin Radio\n\n\n\n"...his husky voice soothed all our chilly souls and he dappled his set with a few covers from Passenger\, The Lumineers and other folky loves of ours." \n\n-International Sound Project
X-ALT-DESC;FMTTYPE=text/html:<span style="color: rgb(29\, 33\, 41)\; font-family: Helvetica\, Arial\, sans-serif\; font-size: 14px\;">Michael Endres will be opening Sam&#39\;s show! Another Up and Coming Sauk Prairie Phenom!&nbsp\;</span><br style="color: rgb(29\, 33\, 41)\; font-family: Helvetica\, Arial\, sans-serif\; font-size: 14px\;" />\n<br style="color: rgb(29\, 33\, 41)\; font-family: Helvetica\, Arial\, sans-serif\; font-size: 14px\;" />\n<span style="color: rgb(29\, 33\, 41)\; font-family: Helvetica\, Arial\, sans-serif\; font-size: 14px\;">Sam Ness is taking the Madison music scene by storm. His rugged charm coupled with immense talent have made him a stellar act to watch&quot\;&nbsp\;</span><br style="color: rgb(29\, 33\, 41)\; font-family: Helvetica\, Arial\, sans-serif\; font-size: 14px\;" />\n<span style="color: rgb(29\, 33\, 41)\; font-family: Helvetica\, Arial\, sans-serif\; font-size: 14px\;">-On Wisconsin Radio</span><br style="color: rgb(29\, 33\, 41)\; font-family: Helvetica\, Arial\, sans-serif\; font-size: 14px\;" />\n<br style="color: rgb(29\, 33\, 41)\; font-family: Helvetica\, Arial\, sans-serif\; font-size: 14px\;" />\n<span style="color: rgb(29\, 33\, 41)\; font-family: Helvetica\, Arial\, sans-serif\; font-size: 14px\;">&quot\;...his husky voice soothed all our chilly souls and he dappled his set with a few covers from Passenger\, The Lumineers and other folky loves of ours.&quot\;&nbsp\;</span><br style="color: rgb(29\, 33\, 41)\; font-family: Helvetica\, Arial\, sans-serif\; font-size: 14px\;" />\n<span style="color: rgb(29\, 33\, 41)\; font-family: Helvetica\, Arial\, sans-serif\; font-size: 14px\;">-International Sound Project</span>
LOCATION:Vintage Brewing Co. Sauk Prairie 600 Water Street Sauk City\, WI 53583
UID:e.1184.18376
SEQUENCE:3
DTSTAMP:20260424T100730Z
URL:http://members.saukprairie.com/events/details/sam-ness-with-michael-endres-at-vintage-brewing-co-sauk-prairie-18376
END:VEVENT

END:VCALENDAR
