BEGIN:VCALENDAR
VERSION:2.0
PRODID:-//ChamberMaster//Event Calendar 2.0//EN
METHOD:PUBLISH
X-PUBLISHED-TTL:P3D
REFRESH-INTERVAL:P3D
CALSCALE:GREGORIAN
BEGIN:VEVENT
DTSTART:20181215T160000Z
DTEND:20181215T180000Z
X-MICROSOFT-CDO-ALLDAYEVENT:FALSE
SUMMARY:Santa Storytime Spectacular
DESCRIPTION:Santa is coming to the library to share stories\, lead sing-a-longs\, and perform some special holiday magic!\n\nAfterward he will listen to children's wish lists and be available for photos.\n\nA craft and cookies will complete this memorable morning!\n\nThis event is free for everyone!
X-ALT-DESC;FMTTYPE=text/html:<p>Santa is coming to the library to share stories\, lead sing-a-longs\, and perform some special holiday magic!</p>\n\n<p>Afterward he will listen to children&rsquo\;s wish lists and be available for photos.</p>\n\n<p>A craft and cookies will complete this memorable morning!</p>\n\n<p>This event is free for everyone!</p>\n
LOCATION:Sauk City Public Library 515 Water St. Sauk City\, WI
UID:e.1184.21466
SEQUENCE:3
DTSTAMP:20260424T004753Z
URL:http://members.saukprairie.com/events/details/santa-storytime-spectacular-12-15-2018-21466
END:VEVENT

END:VCALENDAR
