BEGIN:VCALENDAR
VERSION:2.0
PRODID:-//ChamberMaster//Event Calendar 2.0//EN
METHOD:PUBLISH
X-PUBLISHED-TTL:P3D
REFRESH-INTERVAL:P3D
CALSCALE:GREGORIAN
BEGIN:VEVENT
DTSTART:20191026T180000Z
DTEND:20191026T203000Z
X-MICROSOFT-CDO-ALLDAYEVENT:FALSE
SUMMARY:Saturday Crafternoon
DESCRIPTION:Reserve your spot at our Public Workshop on October 26\, 2019! With over 90 designs to choose from you'll be sure to take home a new piece of decor that you love! You will be able to select your stain color and paint colors during the workshop. Registration closes on October 23\, 2019.\n\n*Wine will be available for purchase.
X-ALT-DESC;FMTTYPE=text/html:<p>Reserve your spot at our Public Workshop on October 26\, 2019! With over 90 designs to choose from you&#39\;ll be sure to take home a new piece of decor that you love! You will be able to select your stain color and paint colors during the workshop.&nbsp\;<strong>Registration closes on October 23\, 2019.</strong></p>\n\n<p>*Wine will be available for purchase.</p>\n
LOCATION:Home by Hayley 421 Water St #105 Prairie du Sac\, WI 53578
UID:e.1184.23595
SEQUENCE:3
DTSTAMP:20260423T095236Z
URL:http://members.saukprairie.com/events/details/saturday-crafternoon-23595
END:VEVENT

END:VCALENDAR
