BEGIN:VCALENDAR
VERSION:2.0
PRODID:-//ChamberMaster//Event Calendar 2.0//EN
METHOD:PUBLISH
X-PUBLISHED-TTL:P3D
REFRESH-INTERVAL:P3D
CALSCALE:GREGORIAN
BEGIN:VEVENT
DTSTART:20171202T160000Z
DTEND:20171202T200000Z
X-MICROSOFT-CDO-ALLDAYEVENT:FALSE
SUMMARY:Saturday with Santa
DESCRIPTION:Calling all children and the young at heart! Santa Claus will be visiting the Tripp Museum's vintage toy workshop from 10 AM to 2 PM on Saturday\, December 2\, to hear your dearest Christmas wishes. Bring your camera or smart phone to snap a photograph of your child with Santa. Enjoy festive music and displays inside the elegant Tripp Heritage Museum. All young visitors will receive a little goodie bag to take home\, just like the old days!
X-ALT-DESC;FMTTYPE=text/html:Calling all children and the young at heart! Santa Claus will be visiting the Tripp Museum&#39\;s vintage toy workshop from 10 AM to 2 PM on Saturday\, December 2\, to hear your dearest Christmas wishes. Bring your camera or smart phone to snap a photograph of your child with Santa. Enjoy festive music and displays inside the elegant Tripp Heritage Museum. All young visitors will receive a little goodie bag to take home\, just like the old days!
LOCATION:Tripp Heritage Museum 565 Water St. Prairie du Sac
UID:e.1184.14100
SEQUENCE:3
DTSTAMP:20260424T192712Z
URL:http://members.saukprairie.com/events/details/saturday-with-santa-14100
END:VEVENT

END:VCALENDAR
